{"text_format":"1","workbook":"xlsx","n_sheets":3,"sheets":["Recruitment Planner Data Entry","Printout Summary","Source_list"],"not_rendered":{"charts":0,"images":2,"macros":1,"external_links":0,"defined_names":14,"comments":0,"pivot_tables":0},"unopened":[],"bounds":{"document_bytes":16777216,"sheet_cells":100000,"rows_first":2000,"rows_last":500,"rows_between":2000,"halvings":0,"cell_chars":16384,"cell_head_chars":4096},"cells_cut":0,"cells_raw":0,"read":"whole","date_system":"1900"}

{"sheet":"Recruitment Planner Data Entry","index":0,"n_rows":60,"n_cols":702,"rows_kept":60,"cut":false,"hidden":false,"merged":[[21,0,24,1],[20,2,20,3],[23,2,23,3],[21,2,21,3],[21,4,24,4],[22,2,22,3],[24,2,24,3],[1,2,1,3],[3,2,3,3],[4,2,4,3],[6,2,6,3],[20,0,20,1]]}
["Recruitment Planner (NAW draft v1 05/05/2017) Needs approval from CRN before sharing"]
["Study Title:"]
["R&D number",null,"NIHR study ID-"]
["Principal Investigator:",null,"-"]
["Research Practitioner:",null,"-"]
["Site recruitment target number:",null,"Date this target was set:"]
["Expected site first patient first visit date:"]
["Green light from sponsor"]
["Confirmation of Cap&Cap"]
["Planned recruitment end date",null,"Actual recruitment end date"]
["Study End date:",null,"-"]
["Expected number of patients to screen"]
["Expected number of eligible patients:",null,"If other, please state;"]
["-","-","-","-"]
["Patient Numbers",null,{"$f":"IF(ISBLANK($B$7),\"\",B7)","v":""},{"$f":"IF(ISBLANK($B$10),\"\",IF(AND($B$10>TODAY(), $B$10>C$15),EDATE(C15,1),\"\"))","v":""},"","","","","","","","","","","","","","","","","","","","","","","","","","","","","","","","","","","","","","","","","","","","","","","","","","","","","","","","","","","","","","","","",{"$f":"IF(ISBLANK($B$10),\"\",IF(AND($B$10>TODAY(), $B$10>BP$15),EDATE(BP15,1),\"\"))","v":""},"","","","","","","","","","","","","","","","","","","","","","","","","","","",{"$f":"IF(ISBLANK($B$10),\"\",IF(AND($B$10>TODAY(), $B$10>CR$15),EDATE(CR15,1),\"\"))","v":""},{"$f":"IF(ISBLANK($B$10),\"\",IF(AND($B$10>TODAY(), $B$10>CS$15),EDATE(CS15,1),\"\"))","v":""},{"$f":"IF(ISBLANK($B$10),\"\",IF(AND($B$10>TODAY(), $B$10>CT$15),EDATE(CT15,1),\"\"))","v":""},{"$f":"IF(ISBLANK($B$10),\"\",IF(AND($B$10>TODAY(), $B$10>CU$15),EDATE(CU15,1),\"\"))","v":""},{"$f":"IF(ISBLANK($B$10),\"\",IF(AND($B$10>TODAY(), $B$10>CV$15),EDATE(CV15,1),\"\"))","v":""},{"$f":"IF(ISBLANK($B$10),\"\",IF(AND($B$10>TODAY(), $B$10>CW$15),EDATE(CW15,1),\"\"))","v":""},{"$f":"IF(ISBLANK($B$10),\"\",IF(AND($B$10>TODAY(), $B$10>CX$15),EDATE(CX15,1),\"\"))","v":""},{"$f":"IF(ISBLANK($B$10),\"\",IF(AND($B$10>TODAY(), $B$10>CY$15),EDATE(CY15,1),\"\"))","v":""},{"$f":"IF(ISBLANK($B$10),\"\",IF(AND($B$10>TODAY(), $B$10>CZ$15),EDATE(CZ15,1),\"\"))","v":""},{"$f":"IF(ISBLANK($B$10),\"\",IF(AND($B$10>TODAY(), $B$10>DA$15),EDATE(DA15,1),\"\"))","v":""},{"$f":"IF(ISBLANK($B$10),\"\",IF(AND($B$10>TODAY(), $B$10>DB$15),EDATE(DB15,1),\"\"))","v":""},{"$f":"IF(ISBLANK($B$10),\"\",IF(AND($B$10>TODAY(), $B$10>DC$15),EDATE(DC15,1),\"\"))","v":""},{"$f":"IF(ISBLANK($B$10),\"\",IF(AND($B$10>TODAY(), $B$10>DD$15),EDATE(DD15,1),\"\"))","v":""},{"$f":"IF(ISBLANK($B$10),\"\",IF(AND($B$10>TODAY(), $B$10>DE$15),EDATE(DE15,1),\"\"))","v":""},{"$f":"IF(ISBLANK($B$10),\"\",IF(AND($B$10>TODAY(), $B$10>DF$15),EDATE(DF15,1),\"\"))","v":""},{"$f":"IF(ISBLANK($B$10),\"\",IF(AND($B$10>TODAY(), $B$10>DG$15),EDATE(DG15,1),\"\"))","v":""},{"$f":"IF(ISBLANK($B$10),\"\",IF(AND($B$10>TODAY(), $B$10>DH$15),EDATE(DH15,1),\"\"))","v":""},{"$f":"IF(ISBLANK($B$10),\"\",IF(AND($B$10>TODAY(), $B$10>DI$15),EDATE(DI15,1),\"\"))","v":""},{"$f":"IF(ISBLANK($B$10),\"\",IF(AND($B$10>TODAY(), $B$10>DJ$15),EDATE(DJ15,1),\"\"))","v":""},{"$f":"IF(ISBLANK($B$10),\"\",IF(AND($B$10>TODAY(), $B$10>DK$15),EDATE(DK15,1),\"\"))","v":""},{"$f":"IF(ISBLANK($B$10),\"\",IF(AND($B$10>TODAY(), $B$10>DL$15),EDATE(DL15,1),\"\"))","v":""},{"$f":"IF(ISBLANK($B$10),\"\",IF(AND($B$10>TODAY(), $B$10>DM$15),EDATE(DM15,1),\"\"))","v":""},{"$f":"IF(ISBLANK($B$10),\"\",IF(AND($B$10>TODAY(), $B$10>DN$15),EDATE(DN15,1),\"\"))","v":""},{"$f":"IF(ISBLANK($B$10),\"\",IF(AND($B$10>TODAY(), $B$10>DO$15),EDATE(DO15,1),\"\"))","v":""},{"$f":"IF(ISBLANK($B$10),\"\",IF(AND($B$10>TODAY(), $B$10>DP$15),EDATE(DP15,1),\"\"))","v":""},{"$f":"IF(ISBLANK($B$10),\"\",IF(AND($B$10>TODAY(), $B$10>DQ$15),EDATE(DQ15,1),\"\"))","v":""},{"$f":"IF(ISBLANK($B$10),\"\",IF(AND($B$10>TODAY(), $B$10>DR$15),EDATE(DR15,1),\"\"))","v":""},{"$f":"IF(ISBLANK($B$10),\"\",IF(AND($B$10>TODAY(), $B$10>DS$15),EDATE(DS15,1),\"\"))","v":""},{"$f":"IF(ISBLANK($B$10),\"\",IF(AND($B$10>TODAY(), $B$10>DT$15),EDATE(DT15,1),\"\"))","v":""},{"$f":"IF(ISBLANK($B$10),\"\",IF(AND($B$10>TODAY(), $B$10>DU$15),EDATE(DU15,1),\"\"))","v":""},{"$f":"IF(ISBLANK($B$10),\"\",IF(AND($B$10>TODAY(), $B$10>DV$15),EDATE(DV15,1),\"\"))","v":""},{"$f":"IF(ISBLANK($B$10),\"\",IF(AND($B$10>TODAY(), $B$10>DW$15),EDATE(DW15,1),\"\"))","v":""},{"$f":"IF(ISBLANK($B$10),\"\",IF(AND($B$10>TODAY(), $B$10>DX$15),EDATE(DX15,1),\"\"))","v":""},{"$f":"IF(ISBLANK($B$10),\"\",IF(AND($B$10>TODAY(), $B$10>DY$15),EDATE(DY15,1),\"\"))","v":""},{"$f":"IF(ISBLANK($B$10),\"\",IF(AND($B$10>TODAY(), $B$10>DZ$15),EDATE(DZ15,1),\"\"))","v":""},{"$f":"IF(ISBLANK($B$10),\"\",IF(AND($B$10>TODAY(), $B$10>EA$15),EDATE(EA15,1),\"\"))","v":""},{"$f":"IF(ISBLANK($B$10),\"\",IF(AND($B$10>TODAY(), $B$10>EB$15),EDATE(EB15,1),\"\"))","v":""},{"$f":"IF(ISBLANK($B$10),\"\",IF(AND($B$10>TODAY(), $B$10>EC$15),EDATE(EC15,1),\"\"))","v":""},{"$f":"IF(ISBLANK($B$10),\"\",IF(AND($B$10>TODAY(), $B$10>ED$15),EDATE(ED15,1),\"\"))","v":""},{"$f":"IF(ISBLANK($B$10),\"\",IF(AND($B$10>TODAY(), $B$10>EE$15),EDATE(EE15,1),\"\"))","v":""},{"$f":"IF(ISBLANK($B$10),\"\",IF(AND($B$10>TODAY(), $B$10>EF$15),EDATE(EF15,1),\"\"))","v":""},{"$f":"IF(ISBLANK($B$10),\"\",IF(AND($B$10>TODAY(), $B$10>EG$15),EDATE(EG15,1),\"\"))","v":""},{"$f":"IF(ISBLANK($B$10),\"\",IF(AND($B$10>TODAY(), $B$10>EH$15),EDATE(EH15,1),\"\"))","v":""},{"$f":"IF(ISBLANK($B$10),\"\",IF(AND($B$10>TODAY(), $B$10>EI$15),EDATE(EI15,1),\"\"))","v":""},{"$f":"IF(ISBLANK($B$10),\"\",IF(AND($B$10>TODAY(), $B$10>EJ$15),EDATE(EJ15,1),\"\"))","v":""},{"$f":"IF(ISBLANK($B$10),\"\",IF(AND($B$10>TODAY(), $B$10>EK$15),EDATE(EK15,1),\"\"))","v":""},{"$f":"IF(ISBLANK($B$10),\"\",IF(AND($B$10>TODAY(), $B$10>EL$15),EDATE(EL15,1),\"\"))","v":""},{"$f":"IF(ISBLANK($B$10),\"\",IF(AND($B$10>TODAY(), $B$10>EM$15),EDATE(EM15,1),\"\"))","v":""},{"$f":"IF(ISBLANK($B$10),\"\",IF(AND($B$10>TODAY(), $B$10>EN$15),EDATE(EN15,1),\"\"))","v":""},{"$f":"IF(ISBLANK($B$10),\"\",IF(AND($B$10>TODAY(), $B$10>EO$15),EDATE(EO15,1),\"\"))","v":""},{"$f":"IF(ISBLANK($B$10),\"\",IF(AND($B$10>TODAY(), $B$10>EP$15),EDATE(EP15,1),\"\"))","v":""},{"$f":"IF(ISBLANK($B$10),\"\",IF(AND($B$10>TODAY(), $B$10>EQ$15),EDATE(EQ15,1),\"\"))","v":""},{"$f":"IF(ISBLANK($B$10),\"\",IF(AND($B$10>TODAY(), $B$10>ER$15),EDATE(ER15,1),\"\"))","v":""},{"$f":"IF(ISBLANK($B$10),\"\",IF(AND($B$10>TODAY(), $B$10>ES$15),EDATE(ES15,1),\"\"))","v":""},{"$f":"IF(ISBLANK($B$10),\"\",IF(AND($B$10>TODAY(), $B$10>ET$15),EDATE(ET15,1),\"\"))","v":""},{"$f":"IF(ISBLANK($B$10),\"\",IF(AND($B$10>TODAY(), $B$10>EU$15),EDATE(EU15,1),\"\"))","v":""},{"$f":"IF(ISBLANK($B$10),\"\",IF(AND($B$10>TODAY(), $B$10>EV$15),EDATE(EV15,1),\"\"))","v":""},{"$f":"IF(ISBLANK($B$10),\"\",IF(AND($B$10>TODAY(), $B$10>EW$15),EDATE(EW15,1),\"\"))","v":""},{"$f":"IF(ISBLANK($B$10),\"\",IF(AND($B$10>TODAY(), $B$10>EX$15),EDATE(EX15,1),\"\"))","v":""},{"$f":"IF(ISBLANK($B$10),\"\",IF(AND($B$10>TODAY(), $B$10>EY$15),EDATE(EY15,1),\"\"))","v":""},{"$f":"IF(ISBLANK($B$10),\"\",IF(AND($B$10>TODAY(), $B$10>EZ$15),EDATE(EZ15,1),\"\"))","v":""},{"$f":"IF(ISBLANK($B$10),\"\",IF(AND($B$10>TODAY(), $B$10>FA$15),EDATE(FA15,1),\"\"))","v":""},{"$f":"IF(ISBLANK($B$10),\"\",IF(AND($B$10>TODAY(), $B$10>FB$15),EDATE(FB15,1),\"\"))","v":""},{"$f":"IF(ISBLANK($B$10),\"\",IF(AND($B$10>TODAY(), $B$10>FC$15),EDATE(FC15,1),\"\"))","v":""},{"$f":"IF(ISBLANK($B$10),\"\",IF(AND($B$10>TODAY(), $B$10>FD$15),EDATE(FD15,1),\"\"))","v":""},{"$f":"IF(ISBLANK($B$10),\"\",IF(AND($B$10>TODAY(), $B$10>FE$15),EDATE(FE15,1),\"\"))","v":""},{"$f":"IF(ISBLANK($B$10),\"\",IF(AND($B$10>TODAY(), $B$10>FF$15),EDATE(FF15,1),\"\"))","v":""},{"$f":"IF(ISBLANK($B$10),\"\",IF(AND($B$10>TODAY(), $B$10>FG$15),EDATE(FG15,1),\"\"))","v":""},{"$f":"IF(ISBLANK($B$10),\"\",IF(AND($B$10>TODAY(), $B$10>FH$15),EDATE(FH15,1),\"\"))","v":""},{"$f":"IF(ISBLANK($B$10),\"\",IF(AND($B$10>TODAY(), $B$10>FI$15),EDATE(FI15,1),\"\"))","v":""},{"$f":"IF(ISBLANK($B$10),\"\",IF(AND($B$10>TODAY(), $B$10>FJ$15),EDATE(FJ15,1),\"\"))","v":""},{"$f":"IF(ISBLANK($B$10),\"\",IF(AND($B$10>TODAY(), $B$10>FK$15),EDATE(FK15,1),\"\"))","v":""},{"$f":"IF(ISBLANK($B$10),\"\",IF(AND($B$10>TODAY(), $B$10>FL$15),EDATE(FL15,1),\"\"))","v":""},{"$f":"IF(ISBLANK($B$10),\"\",IF(AND($B$10>TODAY(), $B$10>FM$15),EDATE(FM15,1),\"\"))","v":""},{"$f":"IF(ISBLANK($B$10),\"\",IF(AND($B$10>TODAY(), $B$10>FN$15),EDATE(FN15,1),\"\"))","v":""},{"$f":"IF(ISBLANK($B$10),\"\",IF(AND($B$10>TODAY(), $B$10>FO$15),EDATE(FO15,1),\"\"))","v":""},{"$f":"IF(ISBLANK($B$10),\"\",IF(AND($B$10>TODAY(), $B$10>FP$15),EDATE(FP15,1),\"\"))","v":""},{"$f":"IF(ISBLANK($B$10),\"\",IF(AND($B$10>TODAY(), $B$10>FQ$15),EDATE(FQ15,1),\"\"))","v":""},{"$f":"IF(ISBLANK($B$10),\"\",IF(AND($B$10>TODAY(), $B$10>FR$15),EDATE(FR15,1),\"\"))","v":""},{"$f":"IF(ISBLANK($B$10),\"\",IF(AND($B$10>TODAY(), $B$10>FS$15),EDATE(FS15,1),\"\"))","v":""},{"$f":"IF(ISBLANK($B$10),\"\",IF(AND($B$10>TODAY(), $B$10>FT$15),EDATE(FT15,1),\"\"))","v":""},{"$f":"IF(ISBLANK($B$10),\"\",IF(AND($B$10>TODAY(), $B$10>FU$15),EDATE(FU15,1),\"\"))","v":""},{"$f":"IF(ISBLANK($B$10),\"\",IF(AND($B$10>TODAY(), $B$10>FV$15),EDATE(FV15,1),\"\"))","v":""},{"$f":"IF(ISBLANK($B$10),\"\",IF(AND($B$10>TODAY(), $B$10>FW$15),EDATE(FW15,1),\"\"))","v":""},{"$f":"IF(ISBLANK($B$10),\"\",IF(AND($B$10>TODAY(), $B$10>FX$15),EDATE(FX15,1),\"\"))","v":""},{"$f":"IF(ISBLANK($B$10),\"\",IF(AND($B$10>TODAY(), $B$10>FY$15),EDATE(FY15,1),\"\"))","v":""},{"$f":"IF(ISBLANK($B$10),\"\",IF(AND($B$10>TODAY(), $B$10>FZ$15),EDATE(FZ15,1),\"\"))","v":""},{"$f":"IF(ISBLANK($B$10),\"\",IF(AND($B$10>TODAY(), $B$10>GA$15),EDATE(GA15,1),\"\"))","v":""},{"$f":"IF(ISBLANK($B$10),\"\",IF(AND($B$10>TODAY(), $B$10>GB$15),EDATE(GB15,1),\"\"))","v":""},{"$f":"IF(ISBLANK($B$10),\"\",IF(AND($B$10>TODAY(), $B$10>GC$15),EDATE(GC15,1),\"\"))","v":""},{"$f":"IF(ISBLANK($B$10),\"\",IF(AND($B$10>TODAY(), $B$10>GD$15),EDATE(GD15,1),\"\"))","v":""},{"$f":"IF(ISBLANK($B$10),\"\",IF(AND($B$10>TODAY(), $B$10>GE$15),EDATE(GE15,1),\"\"))","v":""},{"$f":"IF(ISBLANK($B$10),\"\",IF(AND($B$10>TODAY(), $B$10>GF$15),EDATE(GF15,1),\"\"))","v":""},{"$f":"IF(ISBLANK($B$10),\"\",IF(AND($B$10>TODAY(), $B$10>GG$15),EDATE(GG15,1),\"\"))","v":""},{"$f":"IF(ISBLANK($B$10),\"\",IF(AND($B$10>TODAY(), $B$10>GH$15),EDATE(GH15,1),\"\"))","v":""},{"$f":"IF(ISBLANK($B$10),\"\",IF(AND($B$10>TODAY(), $B$10>GI$15),EDATE(GI15,1),\"\"))","v":""},{"$f":"IF(ISBLANK($B$10),\"\",IF(AND($B$10>TODAY(), $B$10>GJ$15),EDATE(GJ15,1),\"\"))","v":""},{"$f":"IF(ISBLANK($B$10),\"\",IF(AND($B$10>TODAY(), $B$10>GK$15),EDATE(GK15,1),\"\"))","v":""},{"$f":"IF(ISBLANK($B$10),\"\",IF(AND($B$10>TODAY(), $B$10>GL$15),EDATE(GL15,1),\"\"))","v":""},{"$f":"IF(ISBLANK($B$10),\"\",IF(AND($B$10>TODAY(), $B$10>GM$15),EDATE(GM15,1),\"\"))","v":""},{"$f":"IF(ISBLANK($B$10),\"\",IF(AND($B$10>TODAY(), $B$10>GN$15),EDATE(GN15,1),\"\"))","v":""},{"$f":"IF(ISBLANK($B$10),\"\",IF(AND($B$10>TODAY(), $B$10>GO$15),EDATE(GO15,1),\"\"))","v":""},{"$f":"IF(ISBLANK($B$10),\"\",IF(AND($B$10>TODAY(), $B$10>GP$15),EDATE(GP15,1),\"\"))","v":""},{"$f":"IF(ISBLANK($B$10),\"\",IF(AND($B$10>TODAY(), $B$10>GQ$15),EDATE(GQ15,1),\"\"))","v":""},{"$f":"IF(ISBLANK($B$10),\"\",IF(AND($B$10>TODAY(), $B$10>GR$15),EDATE(GR15,1),\"\"))","v":""},{"$f":"IF(ISBLANK($B$10),\"\",IF(AND($B$10>TODAY(), $B$10>GS$15),EDATE(GS15,1),\"\"))","v":""},{"$f":"IF(ISBLANK($B$10),\"\",IF(AND($B$10>TODAY(), $B$10>GT$15),EDATE(GT15,1),\"\"))","v":""},{"$f":"IF(ISBLANK($B$10),\"\",IF(AND($B$10>TODAY(), $B$10>GU$15),EDATE(GU15,1),\"\"))","v":""},{"$f":"IF(ISBLANK($B$10),\"\",IF(AND($B$10>TODAY(), $B$10>GV$15),EDATE(GV15,1),\"\"))","v":""},{"$f":"IF(ISBLANK($B$10),\"\",IF(AND($B$10>TODAY(), $B$10>GW$15),EDATE(GW15,1),\"\"))","v":""},{"$f":"IF(ISBLANK($B$10),\"\",IF(AND($B$10>TODAY(), $B$10>GX$15),EDATE(GX15,1),\"\"))","v":""},{"$f":"IF(ISBLANK($B$10),\"\",IF(AND($B$10>TODAY(), $B$10>GY$15),EDATE(GY15,1),\"\"))","v":""},{"$f":"IF(ISBLANK($B$10),\"\",IF(AND($B$10>TODAY(), $B$10>GZ$15),EDATE(GZ15,1),\"\"))","v":""},{"$f":"IF(ISBLANK($B$10),\"\",IF(AND($B$10>TODAY(), $B$10>HA$15),EDATE(HA15,1),\"\"))","v":""},{"$f":"IF(ISBLANK($B$10),\"\",IF(AND($B$10>TODAY(), $B$10>HB$15),EDATE(HB15,1),\"\"))","v":""},{"$f":"IF(ISBLANK($B$10),\"\",IF(AND($B$10>TODAY(), $B$10>HC$15),EDATE(HC15,1),\"\"))","v":""},{"$f":"IF(ISBLANK($B$10),\"\",IF(AND($B$10>TODAY(), $B$10>HD$15),EDATE(HD15,1),\"\"))","v":""},{"$f":"IF(ISBLANK($B$10),\"\",IF(AND($B$10>TODAY(), $B$10>HE$15),EDATE(HE15,1),\"\"))","v":""},{"$f":"IF(ISBLANK($B$10),\"\",IF(AND($B$10>TODAY(), $B$10>HF$15),EDATE(HF15,1),\"\"))","v":""},{"$f":"IF(ISBLANK($B$10),\"\",IF(AND($B$10>TODAY(), $B$10>HG$15),EDATE(HG15,1),\"\"))","v":""},{"$f":"IF(ISBLANK($B$10),\"\",IF(AND($B$10>TODAY(), $B$10>HH$15),EDATE(HH15,1),\"\"))","v":""},{"$f":"IF(ISBLANK($B$10),\"\",IF(AND($B$10>TODAY(), $B$10>HI$15),EDATE(HI15,1),\"\"))","v":""},{"$f":"IF(ISBLANK($B$10),\"\",IF(AND($B$10>TODAY(), $B$10>HJ$15),EDATE(HJ15,1),\"\"))","v":""},{"$f":"IF(ISBLANK($B$10),\"\",IF(AND($B$10>TODAY(), $B$10>HK$15),EDATE(HK15,1),\"\"))","v":""},{"$f":"IF(ISBLANK($B$10),\"\",IF(AND($B$10>TODAY(), $B$10>HL$15),EDATE(HL15,1),\"\"))","v":""},{"$f":"IF(ISBLANK($B$10),\"\",IF(AND($B$10>TODAY(), $B$10>HM$15),EDATE(HM15,1),\"\"))","v":""},{"$f":"IF(ISBLANK($B$10),\"\",IF(AND($B$10>TODAY(), $B$10>HN$15),EDATE(HN15,1),\"\"))","v":""},{"$f":"IF(ISBLANK($B$10),\"\",IF(AND($B$10>TODAY(), $B$10>HO$15),EDATE(HO15,1),\"\"))","v":""},{"$f":"IF(ISBLANK($B$10),\"\",IF(AND($B$10>TODAY(), $B$10>HP$15),EDATE(HP15,1),\"\"))","v":""},{"$f":"IF(ISBLANK($B$10),\"\",IF(AND($B$10>TODAY(), $B$10>HQ$15),EDATE(HQ15,1),\"\"))","v":""},{"$f":"IF(ISBLANK($B$10),\"\",IF(AND($B$10>TODAY(), $B$10>HR$15),EDATE(HR15,1),\"\"))","v":""},{"$f":"IF(ISBLANK($B$10),\"\",IF(AND($B$10>TODAY(), $B$10>HS$15),EDATE(HS15,1),\"\"))","v":""},{"$f":"IF(ISBLANK($B$10),\"\",IF(AND($B$10>TODAY(), $B$10>HT$15),EDATE(HT15,1),\"\"))","v":""},{"$f":"IF(ISBLANK($B$10),\"\",IF(AND($B$10>TODAY(), $B$10>HU$15),EDATE(HU15,1),\"\"))","v":""},{"$f":"IF(ISBLANK($B$10),\"\",IF(AND($B$10>TODAY(), $B$10>HV$15),EDATE(HV15,1),\"\"))","v":""},{"$f":"IF(ISBLANK($B$10),\"\",IF(AND($B$10>TODAY(), $B$10>HW$15),EDATE(HW15,1),\"\"))","v":""},{"$f":"IF(ISBLANK($B$10),\"\",IF(AND($B$10>TODAY(), $B$10>HX$15),EDATE(HX15,1),\"\"))","v":""},{"$f":"IF(ISBLANK($B$10),\"\",IF(AND($B$10>TODAY(), $B$10>HY$15),EDATE(HY15,1),\"\"))","v":""},{"$f":"IF(ISBLANK($B$10),\"\",IF(AND($B$10>TODAY(), $B$10>HZ$15),EDATE(HZ15,1),\"\"))","v":""},{"$f":"IF(ISBLANK($B$10),\"\",IF(AND($B$10>TODAY(), $B$10>IA$15),EDATE(IA15,1),\"\"))","v":""},{"$f":"IF(ISBLANK($B$10),\"\",IF(AND($B$10>TODAY(), $B$10>IB$15),EDATE(IB15,1),\"\"))","v":""},{"$f":"IF(ISBLANK($B$10),\"\",IF(AND($B$10>TODAY(), $B$10>IC$15),EDATE(IC15,1),\"\"))","v":""},{"$f":"IF(ISBLANK($B$10),\"\",IF(AND($B$10>TODAY(), $B$10>ID$15),EDATE(ID15,1),\"\"))","v":""},{"$f":"IF(ISBLANK($B$10),\"\",IF(AND($B$10>TODAY(), $B$10>IE$15),EDATE(IE15,1),\"\"))","v":""},{"$f":"IF(ISBLANK($B$10),\"\",IF(AND($B$10>TODAY(), $B$10>IF$15),EDATE(IF15,1),\"\"))","v":""},{"$f":"IF(ISBLANK($B$10),\"\",IF(AND($B$10>TODAY(), $B$10>IG$15),EDATE(IG15,1),\"\"))","v":""},{"$f":"IF(ISBLANK($B$10),\"\",IF(AND($B$10>TODAY(), $B$10>IH$15),EDATE(IH15,1),\"\"))","v":""},{"$f":"IF(ISBLANK($B$10),\"\",IF(AND($B$10>TODAY(), $B$10>II$15),EDATE(II15,1),\"\"))","v":""},{"$f":"IF(ISBLANK($B$10),\"\",IF(AND($B$10>TODAY(), $B$10>IJ$15),EDATE(IJ15,1),\"\"))","v":""},{"$f":"IF(ISBLANK($B$10),\"\",IF(AND($B$10>TODAY(), $B$10>IK$15),EDATE(IK15,1),\"\"))","v":""},{"$f":"IF(ISBLANK($B$10),\"\",IF(AND($B$10>TODAY(), $B$10>IL$15),EDATE(IL15,1),\"\"))","v":""},{"$f":"IF(ISBLANK($B$10),\"\",IF(AND($B$10>TODAY(), $B$10>IM$15),EDATE(IM15,1),\"\"))","v":""},{"$f":"IF(ISBLANK($B$10),\"\",IF(AND($B$10>TODAY(), $B$10>IN$15),EDATE(IN15,1),\"\"))","v":""},{"$f":"IF(ISBLANK($B$10),\"\",IF(AND($B$10>TODAY(), $B$10>IO$15),EDATE(IO15,1),\"\"))","v":""},{"$f":"IF(ISBLANK($B$10),\"\",IF(AND($B$10>TODAY(), $B$10>IP$15),EDATE(IP15,1),\"\"))","v":""},{"$f":"IF(ISBLANK($B$10),\"\",IF(AND($B$10>TODAY(), $B$10>IQ$15),EDATE(IQ15,1),\"\"))","v":""},{"$f":"IF(ISBLANK($B$10),\"\",IF(AND($B$10>TODAY(), $B$10>IR$15),EDATE(IR15,1),\"\"))","v":""},{"$f":"IF(ISBLANK($B$10),\"\",IF(AND($B$10>TODAY(), $B$10>IS$15),EDATE(IS15,1),\"\"))","v":""},{"$f":"IF(ISBLANK($B$10),\"\",IF(AND($B$10>TODAY(), $B$10>IT$15),EDATE(IT15,1),\"\"))","v":""},{"$f":"IF(ISBLANK($B$10),\"\",IF(AND($B$10>TODAY(), $B$10>IU$15),EDATE(IU15,1),\"\"))","v":""},{"$f":"IF(ISBLANK($B$10),\"\",IF(AND($B$10>TODAY(), $B$10>IV$15),EDATE(IV15,1),\"\"))","v":""},{"$f":"IF(ISBLANK($B$10),\"\",IF(AND($B$10>TODAY(), $B$10>IW$15),EDATE(IW15,1),\"\"))","v":""},{"$f":"IF(ISBLANK($B$10),\"\",IF(AND($B$10>TODAY(), $B$10>IX$15),EDATE(IX15,1),\"\"))","v":""},{"$f":"IF(ISBLANK($B$10),\"\",IF(AND($B$10>TODAY(), $B$10>IY$15),EDATE(IY15,1),\"\"))","v":""},{"$f":"IF(ISBLANK($B$10),\"\",IF(AND($B$10>TODAY(), $B$10>IZ$15),EDATE(IZ15,1),\"\"))","v":""},{"$f":"IF(ISBLANK($B$10),\"\",IF(AND($B$10>TODAY(), $B$10>JA$15),EDATE(JA15,1),\"\"))","v":""},{"$f":"IF(ISBLANK($B$10),\"\",IF(AND($B$10>TODAY(), $B$10>JB$15),EDATE(JB15,1),\"\"))","v":""},{"$f":"IF(ISBLANK($B$10),\"\",IF(AND($B$10>TODAY(), $B$10>JC$15),EDATE(JC15,1),\"\"))","v":""},{"$f":"IF(ISBLANK($B$10),\"\",IF(AND($B$10>TODAY(), $B$10>JD$15),EDATE(JD15,1),\"\"))","v":""},{"$f":"IF(ISBLANK($B$10),\"\",IF(AND($B$10>TODAY(), $B$10>JE$15),EDATE(JE15,1),\"\"))","v":""},{"$f":"IF(ISBLANK($B$10),\"\",IF(AND($B$10>TODAY(), $B$10>JF$15),EDATE(JF15,1),\"\"))","v":""},{"$f":"IF(ISBLANK($B$10),\"\",IF(AND($B$10>TODAY(), $B$10>JG$15),EDATE(JG15,1),\"\"))","v":""},{"$f":"IF(ISBLANK($B$10),\"\",IF(AND($B$10>TODAY(), $B$10>JH$15),EDATE(JH15,1),\"\"))","v":""},{"$f":"IF(ISBLANK($B$10),\"\",IF(AND($B$10>TODAY(), $B$10>JI$15),EDATE(JI15,1),\"\"))","v":""},{"$f":"IF(ISBLANK($B$10),\"\",IF(AND($B$10>TODAY(), $B$10>JJ$15),EDATE(JJ15,1),\"\"))","v":""},{"$f":"IF(ISBLANK($B$10),\"\",IF(AND($B$10>TODAY(), $B$10>JK$15),EDATE(JK15,1),\"\"))","v":""},{"$f":"IF(ISBLANK($B$10),\"\",IF(AND($B$10>TODAY(), $B$10>JL$15),EDATE(JL15,1),\"\"))","v":""},{"$f":"IF(ISBLANK($B$10),\"\",IF(AND($B$10>TODAY(), $B$10>JM$15),EDATE(JM15,1),\"\"))","v":""},{"$f":"IF(ISBLANK($B$10),\"\",IF(AND($B$10>TODAY(), $B$10>JN$15),EDATE(JN15,1),\"\"))","v":""},{"$f":"IF(ISBLANK($B$10),\"\",IF(AND($B$10>TODAY(), $B$10>JO$15),EDATE(JO15,1),\"\"))","v":""},{"$f":"IF(ISBLANK($B$10),\"\",IF(AND($B$10>TODAY(), $B$10>JP$15),EDATE(JP15,1),\"\"))","v":""},{"$f":"IF(ISBLANK($B$10),\"\",IF(AND($B$10>TODAY(), $B$10>JQ$15),EDATE(JQ15,1),\"\"))","v":""},{"$f":"IF(ISBLANK($B$10),\"\",IF(AND($B$10>TODAY(), $B$10>JR$15),EDATE(JR15,1),\"\"))","v":""},{"$f":"IF(ISBLANK($B$10),\"\",IF(AND($B$10>TODAY(), $B$10>JS$15),EDATE(JS15,1),\"\"))","v":""},{"$f":"IF(ISBLANK($B$10),\"\",IF(AND($B$10>TODAY(), $B$10>JT$15),EDATE(JT15,1),\"\"))","v":""},{"$f":"IF(ISBLANK($B$10),\"\",IF(AND($B$10>TODAY(), $B$10>JU$15),EDATE(JU15,1),\"\"))","v":""},{"$f":"IF(ISBLANK($B$10),\"\",IF(AND($B$10>TODAY(), $B$10>JV$15),EDATE(JV15,1),\"\"))","v":""},{"$f":"IF(ISBLANK($B$10),\"\",IF(AND($B$10>TODAY(), $B$10>JW$15),EDATE(JW15,1),\"\"))","v":""},{"$f":"IF(ISBLANK($B$10),\"\",IF(AND($B$10>TODAY(), $B$10>JX$15),EDATE(JX15,1),\"\"))","v":""},{"$f":"IF(ISBLANK($B$10),\"\",IF(AND($B$10>TODAY(), $B$10>JY$15),EDATE(JY15,1),\"\"))","v":""},{"$f":"IF(ISBLANK($B$10),\"\",IF(AND($B$10>TODAY(), $B$10>JZ$15),EDATE(JZ15,1),\"\"))","v":""},{"$f":"IF(ISBLANK($B$10),\"\",IF(AND($B$10>TODAY(), $B$10>KA$15),EDATE(KA15,1),\"\"))","v":""},{"$f":"IF(ISBLANK($B$10),\"\",IF(AND($B$10>TODAY(), $B$10>KB$15),EDATE(KB15,1),\"\"))","v":""},{"$f":"IF(ISBLANK($B$10),\"\",IF(AND($B$10>TODAY(), $B$10>KC$15),EDATE(KC15,1),\"\"))","v":""},{"$f":"IF(ISBLANK($B$10),\"\",IF(AND($B$10>TODAY(), $B$10>KD$15),EDATE(KD15,1),\"\"))","v":""},{"$f":"IF(ISBLANK($B$10),\"\",IF(AND($B$10>TODAY(), $B$10>KE$15),EDATE(KE15,1),\"\"))","v":""},{"$f":"IF(ISBLANK($B$10),\"\",IF(AND($B$10>TODAY(), $B$10>KF$15),EDATE(KF15,1),\"\"))","v":""},{"$f":"IF(ISBLANK($B$10),\"\",IF(AND($B$10>TODAY(), $B$10>KG$15),EDATE(KG15,1),\"\"))","v":""},{"$f":"IF(ISBLANK($B$10),\"\",IF(AND($B$10>TODAY(), $B$10>KH$15),EDATE(KH15,1),\"\"))","v":""},{"$f":"IF(ISBLANK($B$10),\"\",IF(AND($B$10>TODAY(), $B$10>KI$15),EDATE(KI15,1),\"\"))","v":""},{"$f":"IF(ISBLANK($B$10),\"\",IF(AND($B$10>TODAY(), $B$10>KJ$15),EDATE(KJ15,1),\"\"))","v":""},{"$f":"IF(ISBLANK($B$10),\"\",IF(AND($B$10>TODAY(), $B$10>KK$15),EDATE(KK15,1),\"\"))","v":""},{"$f":"IF(ISBLANK($B$10),\"\",IF(AND($B$10>TODAY(), $B$10>KL$15),EDATE(KL15,1),\"\"))","v":""},{"$f":"IF(ISBLANK($B$10),\"\",IF(AND($B$10>TODAY(), $B$10>KM$15),EDATE(KM15,1),\"\"))","v":""},{"$f":"IF(ISBLANK($B$10),\"\",IF(AND($B$10>TODAY(), $B$10>KN$15),EDATE(KN15,1),\"\"))","v":""},{"$f":"IF(ISBLANK($B$10),\"\",IF(AND($B$10>TODAY(), $B$10>KO$15),EDATE(KO15,1),\"\"))","v":""},{"$f":"IF(ISBLANK($B$10),\"\",IF(AND($B$10>TODAY(), $B$10>KP$15),EDATE(KP15,1),\"\"))","v":""},{"$f":"IF(ISBLANK($B$10),\"\",IF(AND($B$10>TODAY(), $B$10>KQ$15),EDATE(KQ15,1),\"\"))","v":""},{"$f":"IF(ISBLANK($B$10),\"\",IF(AND($B$10>TODAY(), $B$10>KR$15),EDATE(KR15,1),\"\"))","v":""},{"$f":"IF(ISBLANK($B$10),\"\",IF(AND($B$10>TODAY(), $B$10>KS$15),EDATE(KS15,1),\"\"))","v":""},{"$f":"IF(ISBLANK($B$10),\"\",IF(AND($B$10>TODAY(), $B$10>KT$15),EDATE(KT15,1),\"\"))","v":""},{"$f":"IF(ISBLANK($B$10),\"\",IF(AND($B$10>TODAY(), $B$10>KU$15),EDATE(KU15,1),\"\"))","v":""},{"$f":"IF(ISBLANK($B$10),\"\",IF(AND($B$10>TODAY(), $B$10>KV$15),EDATE(KV15,1),\"\"))","v":""},{"$f":"IF(ISBLANK($B$10),\"\",IF(AND($B$10>TODAY(), $B$10>KW$15),EDATE(KW15,1),\"\"))","v":""},{"$f":"IF(ISBLANK($B$10),\"\",IF(AND($B$10>TODAY(), $B$10>KX$15),EDATE(KX15,1),\"\"))","v":""},{"$f":"IF(ISBLANK($B$10),\"\",IF(AND($B$10>TODAY(), $B$10>KY$15),EDATE(KY15,1),\"\"))","v":""},{"$f":"IF(ISBLANK($B$10),\"\",IF(AND($B$10>TODAY(), $B$10>KZ$15),EDATE(KZ15,1),\"\"))","v":""},{"$f":"IF(ISBLANK($B$10),\"\",IF(AND($B$10>TODAY(), $B$10>LA$15),EDATE(LA15,1),\"\"))","v":""},{"$f":"IF(ISBLANK($B$10),\"\",IF(AND($B$10>TODAY(), $B$10>LB$15),EDATE(LB15,1),\"\"))","v":""},{"$f":"IF(ISBLANK($B$10),\"\",IF(AND($B$10>TODAY(), $B$10>LC$15),EDATE(LC15,1),\"\"))","v":""},{"$f":"IF(ISBLANK($B$10),\"\",IF(AND($B$10>TODAY(), $B$10>LD$15),EDATE(LD15,1),\"\"))","v":""},{"$f":"IF(ISBLANK($B$10),\"\",IF(AND($B$10>TODAY(), $B$10>LE$15),EDATE(LE15,1),\"\"))","v":""},{"$f":"IF(ISBLANK($B$10),\"\",IF(AND($B$10>TODAY(), $B$10>LF$15),EDATE(LF15,1),\"\"))","v":""},{"$f":"IF(ISBLANK($B$10),\"\",IF(AND($B$10>TODAY(), $B$10>LG$15),EDATE(LG15,1),\"\"))","v":""},{"$f":"IF(ISBLANK($B$10),\"\",IF(AND($B$10>TODAY(), $B$10>LH$15),EDATE(LH15,1),\"\"))","v":""},{"$f":"IF(ISBLANK($B$10),\"\",IF(AND($B$10>TODAY(), $B$10>LI$15),EDATE(LI15,1),\"\"))","v":""},{"$f":"IF(ISBLANK($B$10),\"\",IF(AND($B$10>TODAY(), $B$10>LJ$15),EDATE(LJ15,1),\"\"))","v":""},{"$f":"IF(ISBLANK($B$10),\"\",IF(AND($B$10>TODAY(), $B$10>LK$15),EDATE(LK15,1),\"\"))","v":""},{"$f":"IF(ISBLANK($B$10),\"\",IF(AND($B$10>TODAY(), $B$10>LL$15),EDATE(LL15,1),\"\"))","v":""},{"$f":"IF(ISBLANK($B$10),\"\",IF(AND($B$10>TODAY(), $B$10>LM$15),EDATE(LM15,1),\"\"))","v":""},{"$f":"IF(ISBLANK($B$10),\"\",IF(AND($B$10>TODAY(), $B$10>LN$15),EDATE(LN15,1),\"\"))","v":""},{"$f":"IF(ISBLANK($B$10),\"\",IF(AND($B$10>TODAY(), $B$10>LO$15),EDATE(LO15,1),\"\"))","v":""},{"$f":"IF(ISBLANK($B$10),\"\",IF(AND($B$10>TODAY(), $B$10>LP$15),EDATE(LP15,1),\"\"))","v":""},{"$f":"IF(ISBLANK($B$10),\"\",IF(AND($B$10>TODAY(), $B$10>LQ$15),EDATE(LQ15,1),\"\"))","v":""},{"$f":"IF(ISBLANK($B$10),\"\",IF(AND($B$10>TODAY(), $B$10>LR$15),EDATE(LR15,1),\"\"))","v":""},{"$f":"IF(ISBLANK($B$10),\"\",IF(AND($B$10>TODAY(), $B$10>LS$15),EDATE(LS15,1),\"\"))","v":""},{"$f":"IF(ISBLANK($B$10),\"\",IF(AND($B$10>TODAY(), $B$10>LT$15),EDATE(LT15,1),\"\"))","v":""},{"$f":"IF(ISBLANK($B$10),\"\",IF(AND($B$10>TODAY(), $B$10>LU$15),EDATE(LU15,1),\"\"))","v":""},{"$f":"IF(ISBLANK($B$10),\"\",IF(AND($B$10>TODAY(), $B$10>LV$15),EDATE(LV15,1),\"\"))","v":""},{"$f":"IF(ISBLANK($B$10),\"\",IF(AND($B$10>TODAY(), $B$10>LW$15),EDATE(LW15,1),\"\"))","v":""},{"$f":"IF(ISBLANK($B$10),\"\",IF(AND($B$10>TODAY(), $B$10>LX$15),EDATE(LX15,1),\"\"))","v":""},{"$f":"IF(ISBLANK($B$10),\"\",IF(AND($B$10>TODAY(), $B$10>LY$15),EDATE(LY15,1),\"\"))","v":""},{"$f":"IF(ISBLANK($B$10),\"\",IF(AND($B$10>TODAY(), $B$10>LZ$15),EDATE(LZ15,1),\"\"))","v":""},{"$f":"IF(ISBLANK($B$10),\"\",IF(AND($B$10>TODAY(), $B$10>MA$15),EDATE(MA15,1),\"\"))","v":""},{"$f":"IF(ISBLANK($B$10),\"\",IF(AND($B$10>TODAY(), $B$10>MB$15),EDATE(MB15,1),\"\"))","v":""},{"$f":"IF(ISBLANK($B$10),\"\",IF(AND($B$10>TODAY(), $B$10>MC$15),EDATE(MC15,1),\"\"))","v":""},{"$f":"IF(ISBLANK($B$10),\"\",IF(AND($B$10>TODAY(), $B$10>MD$15),EDATE(MD15,1),\"\"))","v":""},{"$f":"IF(ISBLANK($B$10),\"\",IF(AND($B$10>TODAY(), $B$10>ME$15),EDATE(ME15,1),\"\"))","v":""},{"$f":"IF(ISBLANK($B$10),\"\",IF(AND($B$10>TODAY(), $B$10>MF$15),EDATE(MF15,1),\"\"))","v":""},{"$f":"IF(ISBLANK($B$10),\"\",IF(AND($B$10>TODAY(), $B$10>MG$15),EDATE(MG15,1),\"\"))","v":""},{"$f":"IF(ISBLANK($B$10),\"\",IF(AND($B$10>TODAY(), $B$10>MH$15),EDATE(MH15,1),\"\"))","v":""},{"$f":"IF(ISBLANK($B$10),\"\",IF(AND($B$10>TODAY(), $B$10>MI$15),EDATE(MI15,1),\"\"))","v":""},{"$f":"IF(ISBLANK($B$10),\"\",IF(AND($B$10>TODAY(), $B$10>MJ$15),EDATE(MJ15,1),\"\"))","v":""},{"$f":"IF(ISBLANK($B$10),\"\",IF(AND($B$10>TODAY(), $B$10>MK$15),EDATE(MK15,1),\"\"))","v":""},{"$f":"IF(ISBLANK($B$10),\"\",IF(AND($B$10>TODAY(), $B$10>ML$15),EDATE(ML15,1),\"\"))","v":""},{"$f":"IF(ISBLANK($B$10),\"\",IF(AND($B$10>TODAY(), $B$10>MM$15),EDATE(MM15,1),\"\"))","v":""},{"$f":"IF(ISBLANK($B$10),\"\",IF(AND($B$10>TODAY(), $B$10>MN$15),EDATE(MN15,1),\"\"))","v":""},{"$f":"IF(ISBLANK($B$10),\"\",IF(AND($B$10>TODAY(), $B$10>MO$15),EDATE(MO15,1),\"\"))","v":""},{"$f":"IF(ISBLANK($B$10),\"\",IF(AND($B$10>TODAY(), $B$10>MP$15),EDATE(MP15,1),\"\"))","v":""},{"$f":"IF(ISBLANK($B$10),\"\",IF(AND($B$10>TODAY(), $B$10>MQ$15),EDATE(MQ15,1),\"\"))","v":""},{"$f":"IF(ISBLANK($B$10),\"\",IF(AND($B$10>TODAY(), $B$10>MR$15),EDATE(MR15,1),\"\"))","v":""},{"$f":"IF(ISBLANK($B$10),\"\",IF(AND($B$10>TODAY(), $B$10>MS$15),EDATE(MS15,1),\"\"))","v":""},{"$f":"IF(ISBLANK($B$10),\"\",IF(AND($B$10>TODAY(), $B$10>MT$15),EDATE(MT15,1),\"\"))","v":""},{"$f":"IF(ISBLANK($B$10),\"\",IF(AND($B$10>TODAY(), $B$10>MU$15),EDATE(MU15,1),\"\"))","v":""},{"$f":"IF(ISBLANK($B$10),\"\",IF(AND($B$10>TODAY(), $B$10>MV$15),EDATE(MV15,1),\"\"))","v":""},{"$f":"IF(ISBLANK($B$10),\"\",IF(AND($B$10>TODAY(), $B$10>MW$15),EDATE(MW15,1),\"\"))","v":""},{"$f":"IF(ISBLANK($B$10),\"\",IF(AND($B$10>TODAY(), $B$10>MX$15),EDATE(MX15,1),\"\"))","v":""},{"$f":"IF(ISBLANK($B$10),\"\",IF(AND($B$10>TODAY(), $B$10>MY$15),EDATE(MY15,1),\"\"))","v":""},{"$f":"IF(ISBLANK($B$10),\"\",IF(AND($B$10>TODAY(), $B$10>MZ$15),EDATE(MZ15,1),\"\"))","v":""},{"$f":"IF(ISBLANK($B$10),\"\",IF(AND($B$10>TODAY(), $B$10>NA$15),EDATE(NA15,1),\"\"))","v":""},{"$f":"IF(ISBLANK($B$10),\"\",IF(AND($B$10>TODAY(), $B$10>NB$15),EDATE(NB15,1),\"\"))","v":""},{"$f":"IF(ISBLANK($B$10),\"\",IF(AND($B$10>TODAY(), $B$10>NC$15),EDATE(NC15,1),\"\"))","v":""},{"$f":"IF(ISBLANK($B$10),\"\",IF(AND($B$10>TODAY(), $B$10>ND$15),EDATE(ND15,1),\"\"))","v":""},{"$f":"IF(ISBLANK($B$10),\"\",IF(AND($B$10>TODAY(), $B$10>NE$15),EDATE(NE15,1),\"\"))","v":""},{"$f":"IF(ISBLANK($B$10),\"\",IF(AND($B$10>TODAY(), $B$10>NF$15),EDATE(NF15,1),\"\"))","v":""},{"$f":"IF(ISBLANK($B$10),\"\",IF(AND($B$10>TODAY(), $B$10>NG$15),EDATE(NG15,1),\"\"))","v":""},{"$f":"IF(ISBLANK($B$10),\"\",IF(AND($B$10>TODAY(), $B$10>NH$15),EDATE(NH15,1),\"\"))","v":""},{"$f":"IF(ISBLANK($B$10),\"\",IF(AND($B$10>TODAY(), $B$10>NI$15),EDATE(NI15,1),\"\"))","v":""},{"$f":"IF(ISBLANK($B$10),\"\",IF(AND($B$10>TODAY(), $B$10>NJ$15),EDATE(NJ15,1),\"\"))","v":""},{"$f":"IF(ISBLANK($B$10),\"\",IF(AND($B$10>TODAY(), $B$10>NK$15),EDATE(NK15,1),\"\"))","v":""},{"$f":"IF(ISBLANK($B$10),\"\",IF(AND($B$10>TODAY(), $B$10>NL$15),EDATE(NL15,1),\"\"))","v":""},{"$f":"IF(ISBLANK($B$10),\"\",IF(AND($B$10>TODAY(), $B$10>NM$15),EDATE(NM15,1),\"\"))","v":""},{"$f":"IF(ISBLANK($B$10),\"\",IF(AND($B$10>TODAY(), $B$10>NN$15),EDATE(NN15,1),\"\"))","v":""},{"$f":"IF(ISBLANK($B$10),\"\",IF(AND($B$10>TODAY(), $B$10>NO$15),EDATE(NO15,1),\"\"))","v":""},{"$f":"IF(ISBLANK($B$10),\"\",IF(AND($B$10>TODAY(), $B$10>NP$15),EDATE(NP15,1),\"\"))","v":""},{"$f":"IF(ISBLANK($B$10),\"\",IF(AND($B$10>TODAY(), $B$10>NQ$15),EDATE(NQ15,1),\"\"))","v":""},{"$f":"IF(ISBLANK($B$10),\"\",IF(AND($B$10>TODAY(), $B$10>NR$15),EDATE(NR15,1),\"\"))","v":""},{"$f":"IF(ISBLANK($B$10),\"\",IF(AND($B$10>TODAY(), $B$10>NS$15),EDATE(NS15,1),\"\"))","v":""},{"$f":"IF(ISBLANK($B$10),\"\",IF(AND($B$10>TODAY(), $B$10>NT$15),EDATE(NT15,1),\"\"))","v":""},{"$f":"IF(ISBLANK($B$10),\"\",IF(AND($B$10>TODAY(), $B$10>NU$15),EDATE(NU15,1),\"\"))","v":""},{"$f":"IF(ISBLANK($B$10),\"\",IF(AND($B$10>TODAY(), $B$10>NV$15),EDATE(NV15,1),\"\"))","v":""},{"$f":"IF(ISBLANK($B$10),\"\",IF(AND($B$10>TODAY(), $B$10>NW$15),EDATE(NW15,1),\"\"))","v":""},{"$f":"IF(ISBLANK($B$10),\"\",IF(AND($B$10>TODAY(), $B$10>NX$15),EDATE(NX15,1),\"\"))","v":""},{"$f":"IF(ISBLANK($B$10),\"\",IF(AND($B$10>TODAY(), $B$10>NY$15),EDATE(NY15,1),\"\"))","v":""},{"$f":"IF(ISBLANK($B$10),\"\",IF(AND($B$10>TODAY(), $B$10>NZ$15),EDATE(NZ15,1),\"\"))","v":""},{"$f":"IF(ISBLANK($B$10),\"\",IF(AND($B$10>TODAY(), $B$10>OA$15),EDATE(OA15,1),\"\"))","v":""},{"$f":"IF(ISBLANK($B$10),\"\",IF(AND($B$10>TODAY(), $B$10>OB$15),EDATE(OB15,1),\"\"))","v":""},{"$f":"IF(ISBLANK($B$10),\"\",IF(AND($B$10>TODAY(), $B$10>OC$15),EDATE(OC15,1),\"\"))","v":""},{"$f":"IF(ISBLANK($B$10),\"\",IF(AND($B$10>TODAY(), $B$10>OD$15),EDATE(OD15,1),\"\"))","v":""},{"$f":"IF(ISBLANK($B$10),\"\",IF(AND($B$10>TODAY(), $B$10>OE$15),EDATE(OE15,1),\"\"))","v":""},{"$f":"IF(ISBLANK($B$10),\"\",IF(AND($B$10>TODAY(), $B$10>OF$15),EDATE(OF15,1),\"\"))","v":""},{"$f":"IF(ISBLANK($B$10),\"\",IF(AND($B$10>TODAY(), $B$10>OG$15),EDATE(OG15,1),\"\"))","v":""},{"$f":"IF(ISBLANK($B$10),\"\",IF(AND($B$10>TODAY(), $B$10>OH$15),EDATE(OH15,1),\"\"))","v":""},{"$f":"IF(ISBLANK($B$10),\"\",IF(AND($B$10>TODAY(), $B$10>OI$15),EDATE(OI15,1),\"\"))","v":""},{"$f":"IF(ISBLANK($B$10),\"\",IF(AND($B$10>TODAY(), $B$10>OJ$15),EDATE(OJ15,1),\"\"))","v":""},{"$f":"IF(ISBLANK($B$10),\"\",IF(AND($B$10>TODAY(), $B$10>OK$15),EDATE(OK15,1),\"\"))","v":""},{"$f":"IF(ISBLANK($B$10),\"\",IF(AND($B$10>TODAY(), $B$10>OL$15),EDATE(OL15,1),\"\"))","v":""},{"$f":"IF(ISBLANK($B$10),\"\",IF(AND($B$10>TODAY(), $B$10>OM$15),EDATE(OM15,1),\"\"))","v":""},{"$f":"IF(ISBLANK($B$10),\"\",IF(AND($B$10>TODAY(), $B$10>ON$15),EDATE(ON15,1),\"\"))","v":""},{"$f":"IF(ISBLANK($B$10),\"\",IF(AND($B$10>TODAY(), $B$10>OO$15),EDATE(OO15,1),\"\"))","v":""},{"$f":"IF(ISBLANK($B$10),\"\",IF(AND($B$10>TODAY(), $B$10>OP$15),EDATE(OP15,1),\"\"))","v":""},{"$f":"IF(ISBLANK($B$10),\"\",IF(AND($B$10>TODAY(), $B$10>OQ$15),EDATE(OQ15,1),\"\"))","v":""},{"$f":"IF(ISBLANK($B$10),\"\",IF(AND($B$10>TODAY(), $B$10>OR$15),EDATE(OR15,1),\"\"))","v":""},{"$f":"IF(ISBLANK($B$10),\"\",IF(AND($B$10>TODAY(), $B$10>OS$15),EDATE(OS15,1),\"\"))","v":""},{"$f":"IF(ISBLANK($B$10),\"\",IF(AND($B$10>TODAY(), $B$10>OT$15),EDATE(OT15,1),\"\"))","v":""},{"$f":"IF(ISBLANK($B$10),\"\",IF(AND($B$10>TODAY(), $B$10>OU$15),EDATE(OU15,1),\"\"))","v":""},{"$f":"IF(ISBLANK($B$10),\"\",IF(AND($B$10>TODAY(), $B$10>OV$15),EDATE(OV15,1),\"\"))","v":""},{"$f":"IF(ISBLANK($B$10),\"\",IF(AND($B$10>TODAY(), $B$10>OW$15),EDATE(OW15,1),\"\"))","v":""},{"$f":"IF(ISBLANK($B$10),\"\",IF(AND($B$10>TODAY(), $B$10>OX$15),EDATE(OX15,1),\"\"))","v":""},{"$f":"IF(ISBLANK($B$10),\"\",IF(AND($B$10>TODAY(), $B$10>OY$15),EDATE(OY15,1),\"\"))","v":""},{"$f":"IF(ISBLANK($B$10),\"\",IF(AND($B$10>TODAY(), $B$10>OZ$15),EDATE(OZ15,1),\"\"))","v":""},{"$f":"IF(ISBLANK($B$10),\"\",IF(AND($B$10>TODAY(), $B$10>PA$15),EDATE(PA15,1),\"\"))","v":""},{"$f":"IF(ISBLANK($B$10),\"\",IF(AND($B$10>TODAY(), $B$10>PB$15),EDATE(PB15,1),\"\"))","v":""},{"$f":"IF(ISBLANK($B$10),\"\",IF(AND($B$10>TODAY(), $B$10>PC$15),EDATE(PC15,1),\"\"))","v":""},{"$f":"IF(ISBLANK($B$10),\"\",IF(AND($B$10>TODAY(), $B$10>PD$15),EDATE(PD15,1),\"\"))","v":""},{"$f":"IF(ISBLANK($B$10),\"\",IF(AND($B$10>TODAY(), $B$10>PE$15),EDATE(PE15,1),\"\"))","v":""},{"$f":"IF(ISBLANK($B$10),\"\",IF(AND($B$10>TODAY(), $B$10>PF$15),EDATE(PF15,1),\"\"))","v":""},{"$f":"IF(ISBLANK($B$10),\"\",IF(AND($B$10>TODAY(), $B$10>PG$15),EDATE(PG15,1),\"\"))","v":""},{"$f":"IF(ISBLANK($B$10),\"\",IF(AND($B$10>TODAY(), $B$10>PH$15),EDATE(PH15,1),\"\"))","v":""},{"$f":"IF(ISBLANK($B$10),\"\",IF(AND($B$10>TODAY(), $B$10>PI$15),EDATE(PI15,1),\"\"))","v":""},{"$f":"IF(ISBLANK($B$10),\"\",IF(AND($B$10>TODAY(), $B$10>PJ$15),EDATE(PJ15,1),\"\"))","v":""},{"$f":"IF(ISBLANK($B$10),\"\",IF(AND($B$10>TODAY(), $B$10>PK$15),EDATE(PK15,1),\"\"))","v":""},{"$f":"IF(ISBLANK($B$10),\"\",IF(AND($B$10>TODAY(), $B$10>PL$15),EDATE(PL15,1),\"\"))","v":""},{"$f":"IF(ISBLANK($B$10),\"\",IF(AND($B$10>TODAY(), $B$10>PM$15),EDATE(PM15,1),\"\"))","v":""},{"$f":"IF(ISBLANK($B$10),\"\",IF(AND($B$10>TODAY(), $B$10>PN$15),EDATE(PN15,1),\"\"))","v":""},{"$f":"IF(ISBLANK($B$10),\"\",IF(AND($B$10>TODAY(), $B$10>PO$15),EDATE(PO15,1),\"\"))","v":""},{"$f":"IF(ISBLANK($B$10),\"\",IF(AND($B$10>TODAY(), $B$10>PP$15),EDATE(PP15,1),\"\"))","v":""},{"$f":"IF(ISBLANK($B$10),\"\",IF(AND($B$10>TODAY(), $B$10>PQ$15),EDATE(PQ15,1),\"\"))","v":""},{"$f":"IF(ISBLANK($B$10),\"\",IF(AND($B$10>TODAY(), $B$10>PR$15),EDATE(PR15,1),\"\"))","v":""},{"$f":"IF(ISBLANK($B$10),\"\",IF(AND($B$10>TODAY(), $B$10>PS$15),EDATE(PS15,1),\"\"))","v":""},{"$f":"IF(ISBLANK($B$10),\"\",IF(AND($B$10>TODAY(), $B$10>PT$15),EDATE(PT15,1),\"\"))","v":""},{"$f":"IF(ISBLANK($B$10),\"\",IF(AND($B$10>TODAY(), $B$10>PU$15),EDATE(PU15,1),\"\"))","v":""},{"$f":"IF(ISBLANK($B$10),\"\",IF(AND($B$10>TODAY(), $B$10>PV$15),EDATE(PV15,1),\"\"))","v":""},{"$f":"IF(ISBLANK($B$10),\"\",IF(AND($B$10>TODAY(), $B$10>PW$15),EDATE(PW15,1),\"\"))","v":""},{"$f":"IF(ISBLANK($B$10),\"\",IF(AND($B$10>TODAY(), $B$10>PX$15),EDATE(PX15,1),\"\"))","v":""},{"$f":"IF(ISBLANK($B$10),\"\",IF(AND($B$10>TODAY(), $B$10>PY$15),EDATE(PY15,1),\"\"))","v":""},{"$f":"IF(ISBLANK($B$10),\"\",IF(AND($B$10>TODAY(), $B$10>PZ$15),EDATE(PZ15,1),\"\"))","v":""},{"$f":"IF(ISBLANK($B$10),\"\",IF(AND($B$10>TODAY(), $B$10>QA$15),EDATE(QA15,1),\"\"))","v":""},{"$f":"IF(ISBLANK($B$10),\"\",IF(AND($B$10>TODAY(), $B$10>QB$15),EDATE(QB15,1),\"\"))","v":""},{"$f":"IF(ISBLANK($B$10),\"\",IF(AND($B$10>TODAY(), $B$10>QC$15),EDATE(QC15,1),\"\"))","v":""},{"$f":"IF(ISBLANK($B$10),\"\",IF(AND($B$10>TODAY(), $B$10>QD$15),EDATE(QD15,1),\"\"))","v":""},{"$f":"IF(ISBLANK($B$10),\"\",IF(AND($B$10>TODAY(), $B$10>QE$15),EDATE(QE15,1),\"\"))","v":""},{"$f":"IF(ISBLANK($B$10),\"\",IF(AND($B$10>TODAY(), $B$10>QF$15),EDATE(QF15,1),\"\"))","v":""},{"$f":"IF(ISBLANK($B$10),\"\",IF(AND($B$10>TODAY(), $B$10>QG$15),EDATE(QG15,1),\"\"))","v":""},{"$f":"IF(ISBLANK($B$10),\"\",IF(AND($B$10>TODAY(), $B$10>QH$15),EDATE(QH15,1),\"\"))","v":""},{"$f":"IF(ISBLANK($B$10),\"\",IF(AND($B$10>TODAY(), $B$10>QI$15),EDATE(QI15,1),\"\"))","v":""},{"$f":"IF(ISBLANK($B$10),\"\",IF(AND($B$10>TODAY(), $B$10>QJ$15),EDATE(QJ15,1),\"\"))","v":""},{"$f":"IF(ISBLANK($B$10),\"\",IF(AND($B$10>TODAY(), $B$10>QK$15),EDATE(QK15,1),\"\"))","v":""},{"$f":"IF(ISBLANK($B$10),\"\",IF(AND($B$10>TODAY(), $B$10>QL$15),EDATE(QL15,1),\"\"))","v":""},{"$f":"IF(ISBLANK($B$10),\"\",IF(AND($B$10>TODAY(), $B$10>QM$15),EDATE(QM15,1),\"\"))","v":""},{"$f":"IF(ISBLANK($B$10),\"\",IF(AND($B$10>TODAY(), $B$10>QN$15),EDATE(QN15,1),\"\"))","v":""},{"$f":"IF(ISBLANK($B$10),\"\",IF(AND($B$10>TODAY(), $B$10>QO$15),EDATE(QO15,1),\"\"))","v":""},{"$f":"IF(ISBLANK($B$10),\"\",IF(AND($B$10>TODAY(), $B$10>QP$15),EDATE(QP15,1),\"\"))","v":""},{"$f":"IF(ISBLANK($B$10),\"\",IF(AND($B$10>TODAY(), $B$10>QQ$15),EDATE(QQ15,1),\"\"))","v":""},{"$f":"IF(ISBLANK($B$10),\"\",IF(AND($B$10>TODAY(), $B$10>QR$15),EDATE(QR15,1),\"\"))","v":""},{"$f":"IF(ISBLANK($B$10),\"\",IF(AND($B$10>TODAY(), $B$10>QS$15),EDATE(QS15,1),\"\"))","v":""},{"$f":"IF(ISBLANK($B$10),\"\",IF(AND($B$10>TODAY(), $B$10>QT$15),EDATE(QT15,1),\"\"))","v":""},{"$f":"IF(ISBLANK($B$10),\"\",IF(AND($B$10>TODAY(), $B$10>QU$15),EDATE(QU15,1),\"\"))","v":""},{"$f":"IF(ISBLANK($B$10),\"\",IF(AND($B$10>TODAY(), $B$10>QV$15),EDATE(QV15,1),\"\"))","v":""},{"$f":"IF(ISBLANK($B$10),\"\",IF(AND($B$10>TODAY(), $B$10>QW$15),EDATE(QW15,1),\"\"))","v":""},{"$f":"IF(ISBLANK($B$10),\"\",IF(AND($B$10>TODAY(), $B$10>QX$15),EDATE(QX15,1),\"\"))","v":""},{"$f":"IF(ISBLANK($B$10),\"\",IF(AND($B$10>TODAY(), $B$10>QY$15),EDATE(QY15,1),\"\"))","v":""},{"$f":"IF(ISBLANK($B$10),\"\",IF(AND($B$10>TODAY(), $B$10>QZ$15),EDATE(QZ15,1),\"\"))","v":""},{"$f":"IF(ISBLANK($B$10),\"\",IF(AND($B$10>TODAY(), $B$10>RA$15),EDATE(RA15,1),\"\"))","v":""},{"$f":"IF(ISBLANK($B$10),\"\",IF(AND($B$10>TODAY(), $B$10>RB$15),EDATE(RB15,1),\"\"))","v":""},{"$f":"IF(ISBLANK($B$10),\"\",IF(AND($B$10>TODAY(), $B$10>RC$15),EDATE(RC15,1),\"\"))","v":""},{"$f":"IF(ISBLANK($B$10),\"\",IF(AND($B$10>TODAY(), $B$10>RD$15),EDATE(RD15,1),\"\"))","v":""},{"$f":"IF(ISBLANK($B$10),\"\",IF(AND($B$10>TODAY(), $B$10>RE$15),EDATE(RE15,1),\"\"))","v":""},{"$f":"IF(ISBLANK($B$10),\"\",IF(AND($B$10>TODAY(), $B$10>RF$15),EDATE(RF15,1),\"\"))","v":""},{"$f":"IF(ISBLANK($B$10),\"\",IF(AND($B$10>TODAY(), $B$10>RG$15),EDATE(RG15,1),\"\"))","v":""},{"$f":"IF(ISBLANK($B$10),\"\",IF(AND($B$10>TODAY(), $B$10>RH$15),EDATE(RH15,1),\"\"))","v":""},{"$f":"IF(ISBLANK($B$10),\"\",IF(AND($B$10>TODAY(), $B$10>RI$15),EDATE(RI15,1),\"\"))","v":""},{"$f":"IF(ISBLANK($B$10),\"\",IF(AND($B$10>TODAY(), $B$10>RJ$15),EDATE(RJ15,1),\"\"))","v":""},{"$f":"IF(ISBLANK($B$10),\"\",IF(AND($B$10>TODAY(), $B$10>RK$15),EDATE(RK15,1),\"\"))","v":""},{"$f":"IF(ISBLANK($B$10),\"\",IF(AND($B$10>TODAY(), $B$10>RL$15),EDATE(RL15,1),\"\"))","v":""},{"$f":"IF(ISBLANK($B$10),\"\",IF(AND($B$10>TODAY(), $B$10>RM$15),EDATE(RM15,1),\"\"))","v":""},{"$f":"IF(ISBLANK($B$10),\"\",IF(AND($B$10>TODAY(), $B$10>RN$15),EDATE(RN15,1),\"\"))","v":""},{"$f":"IF(ISBLANK($B$10),\"\",IF(AND($B$10>TODAY(), $B$10>RO$15),EDATE(RO15,1),\"\"))","v":""},{"$f":"IF(ISBLANK($B$10),\"\",IF(AND($B$10>TODAY(), $B$10>RP$15),EDATE(RP15,1),\"\"))","v":""},{"$f":"IF(ISBLANK($B$10),\"\",IF(AND($B$10>TODAY(), $B$10>RQ$15),EDATE(RQ15,1),\"\"))","v":""},{"$f":"IF(ISBLANK($B$10),\"\",IF(AND($B$10>TODAY(), $B$10>RR$15),EDATE(RR15,1),\"\"))","v":""},{"$f":"IF(ISBLANK($B$10),\"\",IF(AND($B$10>TODAY(), $B$10>RS$15),EDATE(RS15,1),\"\"))","v":""},{"$f":"IF(ISBLANK($B$10),\"\",IF(AND($B$10>TODAY(), $B$10>RT$15),EDATE(RT15,1),\"\"))","v":""},{"$f":"IF(ISBLANK($B$10),\"\",IF(AND($B$10>TODAY(), $B$10>RU$15),EDATE(RU15,1),\"\"))","v":""},{"$f":"IF(ISBLANK($B$10),\"\",IF(AND($B$10>TODAY(), $B$10>RV$15),EDATE(RV15,1),\"\"))","v":""},{"$f":"IF(ISBLANK($B$10),\"\",IF(AND($B$10>TODAY(), $B$10>RW$15),EDATE(RW15,1),\"\"))","v":""},{"$f":"IF(ISBLANK($B$10),\"\",IF(AND($B$10>TODAY(), $B$10>RX$15),EDATE(RX15,1),\"\"))","v":""},{"$f":"IF(ISBLANK($B$10),\"\",IF(AND($B$10>TODAY(), $B$10>RY$15),EDATE(RY15,1),\"\"))","v":""},{"$f":"IF(ISBLANK($B$10),\"\",IF(AND($B$10>TODAY(), $B$10>RZ$15),EDATE(RZ15,1),\"\"))","v":""},{"$f":"IF(ISBLANK($B$10),\"\",IF(AND($B$10>TODAY(), $B$10>SA$15),EDATE(SA15,1),\"\"))","v":""},{"$f":"IF(ISBLANK($B$10),\"\",IF(AND($B$10>TODAY(), $B$10>SB$15),EDATE(SB15,1),\"\"))","v":""},{"$f":"IF(ISBLANK($B$10),\"\",IF(AND($B$10>TODAY(), $B$10>SC$15),EDATE(SC15,1),\"\"))","v":""},{"$f":"IF(ISBLANK($B$10),\"\",IF(AND($B$10>TODAY(), $B$10>SD$15),EDATE(SD15,1),\"\"))","v":""},{"$f":"IF(ISBLANK($B$10),\"\",IF(AND($B$10>TODAY(), $B$10>SE$15),EDATE(SE15,1),\"\"))","v":""},{"$f":"IF(ISBLANK($B$10),\"\",IF(AND($B$10>TODAY(), $B$10>SF$15),EDATE(SF15,1),\"\"))","v":""},{"$f":"IF(ISBLANK($B$10),\"\",IF(AND($B$10>TODAY(), $B$10>SG$15),EDATE(SG15,1),\"\"))","v":""},{"$f":"IF(ISBLANK($B$10),\"\",IF(AND($B$10>TODAY(), $B$10>SH$15),EDATE(SH15,1),\"\"))","v":""},{"$f":"IF(ISBLANK($B$10),\"\",IF(AND($B$10>TODAY(), $B$10>SI$15),EDATE(SI15,1),\"\"))","v":""},{"$f":"IF(ISBLANK($B$10),\"\",IF(AND($B$10>TODAY(), $B$10>SJ$15),EDATE(SJ15,1),\"\"))","v":""},{"$f":"IF(ISBLANK($B$10),\"\",IF(AND($B$10>TODAY(), $B$10>SK$15),EDATE(SK15,1),\"\"))","v":""},{"$f":"IF(ISBLANK($B$10),\"\",IF(AND($B$10>TODAY(), $B$10>SL$15),EDATE(SL15,1),\"\"))","v":""},{"$f":"IF(ISBLANK($B$10),\"\",IF(AND($B$10>TODAY(), $B$10>SM$15),EDATE(SM15,1),\"\"))","v":""},{"$f":"IF(ISBLANK($B$10),\"\",IF(AND($B$10>TODAY(), $B$10>SN$15),EDATE(SN15,1),\"\"))","v":""},{"$f":"IF(ISBLANK($B$10),\"\",IF(AND($B$10>TODAY(), $B$10>SO$15),EDATE(SO15,1),\"\"))","v":""},{"$f":"IF(ISBLANK($B$10),\"\",IF(AND($B$10>TODAY(), $B$10>SP$15),EDATE(SP15,1),\"\"))","v":""},{"$f":"IF(ISBLANK($B$10),\"\",IF(AND($B$10>TODAY(), $B$10>SQ$15),EDATE(SQ15,1),\"\"))","v":""},{"$f":"IF(ISBLANK($B$10),\"\",IF(AND($B$10>TODAY(), $B$10>SR$15),EDATE(SR15,1),\"\"))","v":""},{"$f":"IF(ISBLANK($B$10),\"\",IF(AND($B$10>TODAY(), $B$10>SS$15),EDATE(SS15,1),\"\"))","v":""},{"$f":"IF(ISBLANK($B$10),\"\",IF(AND($B$10>TODAY(), $B$10>ST$15),EDATE(ST15,1),\"\"))","v":""},{"$f":"IF(ISBLANK($B$10),\"\",IF(AND($B$10>TODAY(), $B$10>SU$15),EDATE(SU15,1),\"\"))","v":""},{"$f":"IF(ISBLANK($B$10),\"\",IF(AND($B$10>TODAY(), $B$10>SV$15),EDATE(SV15,1),\"\"))","v":""},{"$f":"IF(ISBLANK($B$10),\"\",IF(AND($B$10>TODAY(), $B$10>SW$15),EDATE(SW15,1),\"\"))","v":""},{"$f":"IF(ISBLANK($B$10),\"\",IF(AND($B$10>TODAY(), $B$10>SX$15),EDATE(SX15,1),\"\"))","v":""},{"$f":"IF(ISBLANK($B$10),\"\",IF(AND($B$10>TODAY(), $B$10>SY$15),EDATE(SY15,1),\"\"))","v":""},{"$f":"IF(ISBLANK($B$10),\"\",IF(AND($B$10>TODAY(), $B$10>SZ$15),EDATE(SZ15,1),\"\"))","v":""},{"$f":"IF(ISBLANK($B$10),\"\",IF(AND($B$10>TODAY(), $B$10>TA$15),EDATE(TA15,1),\"\"))","v":""},{"$f":"IF(ISBLANK($B$10),\"\",IF(AND($B$10>TODAY(), $B$10>TB$15),EDATE(TB15,1),\"\"))","v":""},{"$f":"IF(ISBLANK($B$10),\"\",IF(AND($B$10>TODAY(), $B$10>TC$15),EDATE(TC15,1),\"\"))","v":""},{"$f":"IF(ISBLANK($B$10),\"\",IF(AND($B$10>TODAY(), $B$10>TD$15),EDATE(TD15,1),\"\"))","v":""},{"$f":"IF(ISBLANK($B$10),\"\",IF(AND($B$10>TODAY(), $B$10>TE$15),EDATE(TE15,1),\"\"))","v":""},{"$f":"IF(ISBLANK($B$10),\"\",IF(AND($B$10>TODAY(), $B$10>TF$15),EDATE(TF15,1),\"\"))","v":""},{"$f":"IF(ISBLANK($B$10),\"\",IF(AND($B$10>TODAY(), $B$10>TG$15),EDATE(TG15,1),\"\"))","v":""},{"$f":"IF(ISBLANK($B$10),\"\",IF(AND($B$10>TODAY(), $B$10>TH$15),EDATE(TH15,1),\"\"))","v":""},{"$f":"IF(ISBLANK($B$10),\"\",IF(AND($B$10>TODAY(), $B$10>TI$15),EDATE(TI15,1),\"\"))","v":""},{"$f":"IF(ISBLANK($B$10),\"\",IF(AND($B$10>TODAY(), $B$10>TJ$15),EDATE(TJ15,1),\"\"))","v":""},{"$f":"IF(ISBLANK($B$10),\"\",IF(AND($B$10>TODAY(), $B$10>TK$15),EDATE(TK15,1),\"\"))","v":""},{"$f":"IF(ISBLANK($B$10),\"\",IF(AND($B$10>TODAY(), $B$10>TL$15),EDATE(TL15,1),\"\"))","v":""},{"$f":"IF(ISBLANK($B$10),\"\",IF(AND($B$10>TODAY(), $B$10>TM$15),EDATE(TM15,1),\"\"))","v":""},{"$f":"IF(ISBLANK($B$10),\"\",IF(AND($B$10>TODAY(), $B$10>TN$15),EDATE(TN15,1),\"\"))","v":""},{"$f":"IF(ISBLANK($B$10),\"\",IF(AND($B$10>TODAY(), $B$10>TO$15),EDATE(TO15,1),\"\"))","v":""},{"$f":"IF(ISBLANK($B$10),\"\",IF(AND($B$10>TODAY(), $B$10>TP$15),EDATE(TP15,1),\"\"))","v":""},{"$f":"IF(ISBLANK($B$10),\"\",IF(AND($B$10>TODAY(), $B$10>TQ$15),EDATE(TQ15,1),\"\"))","v":""},{"$f":"IF(ISBLANK($B$10),\"\",IF(AND($B$10>TODAY(), $B$10>TR$15),EDATE(TR15,1),\"\"))","v":""},{"$f":"IF(ISBLANK($B$10),\"\",IF(AND($B$10>TODAY(), $B$10>TS$15),EDATE(TS15,1),\"\"))","v":""},{"$f":"IF(ISBLANK($B$10),\"\",IF(AND($B$10>TODAY(), $B$10>TT$15),EDATE(TT15,1),\"\"))","v":""},{"$f":"IF(ISBLANK($B$10),\"\",IF(AND($B$10>TODAY(), $B$10>TU$15),EDATE(TU15,1),\"\"))","v":""},{"$f":"IF(ISBLANK($B$10),\"\",IF(AND($B$10>TODAY(), $B$10>TV$15),EDATE(TV15,1),\"\"))","v":""},{"$f":"IF(ISBLANK($B$10),\"\",IF(AND($B$10>TODAY(), $B$10>TW$15),EDATE(TW15,1),\"\"))","v":""},{"$f":"IF(ISBLANK($B$10),\"\",IF(AND($B$10>TODAY(), $B$10>TX$15),EDATE(TX15,1),\"\"))","v":""},{"$f":"IF(ISBLANK($B$10),\"\",IF(AND($B$10>TODAY(), $B$10>TY$15),EDATE(TY15,1),\"\"))","v":""},{"$f":"IF(ISBLANK($B$10),\"\",IF(AND($B$10>TODAY(), $B$10>TZ$15),EDATE(TZ15,1),\"\"))","v":""},{"$f":"IF(ISBLANK($B$10),\"\",IF(AND($B$10>TODAY(), $B$10>UA$15),EDATE(UA15,1),\"\"))","v":""},{"$f":"IF(ISBLANK($B$10),\"\",IF(AND($B$10>TODAY(), $B$10>UB$15),EDATE(UB15,1),\"\"))","v":""},{"$f":"IF(ISBLANK($B$10),\"\",IF(AND($B$10>TODAY(), $B$10>UC$15),EDATE(UC15,1),\"\"))","v":""},{"$f":"IF(ISBLANK($B$10),\"\",IF(AND($B$10>TODAY(), $B$10>UD$15),EDATE(UD15,1),\"\"))","v":""},{"$f":"IF(ISBLANK($B$10),\"\",IF(AND($B$10>TODAY(), $B$10>UE$15),EDATE(UE15,1),\"\"))","v":""},{"$f":"IF(ISBLANK($B$10),\"\",IF(AND($B$10>TODAY(), $B$10>UF$15),EDATE(UF15,1),\"\"))","v":""},{"$f":"IF(ISBLANK($B$10),\"\",IF(AND($B$10>TODAY(), $B$10>UG$15),EDATE(UG15,1),\"\"))","v":""},{"$f":"IF(ISBLANK($B$10),\"\",IF(AND($B$10>TODAY(), $B$10>UH$15),EDATE(UH15,1),\"\"))","v":""},{"$f":"IF(ISBLANK($B$10),\"\",IF(AND($B$10>TODAY(), $B$10>UI$15),EDATE(UI15,1),\"\"))","v":""},{"$f":"IF(ISBLANK($B$10),\"\",IF(AND($B$10>TODAY(), $B$10>UJ$15),EDATE(UJ15,1),\"\"))","v":""},{"$f":"IF(ISBLANK($B$10),\"\",IF(AND($B$10>TODAY(), $B$10>UK$15),EDATE(UK15,1),\"\"))","v":""},{"$f":"IF(ISBLANK($B$10),\"\",IF(AND($B$10>TODAY(), $B$10>UL$15),EDATE(UL15,1),\"\"))","v":""},{"$f":"IF(ISBLANK($B$10),\"\",IF(AND($B$10>TODAY(), $B$10>UM$15),EDATE(UM15,1),\"\"))","v":""},{"$f":"IF(ISBLANK($B$10),\"\",IF(AND($B$10>TODAY(), $B$10>UN$15),EDATE(UN15,1),\"\"))","v":""},{"$f":"IF(ISBLANK($B$10),\"\",IF(AND($B$10>TODAY(), $B$10>UO$15),EDATE(UO15,1),\"\"))","v":""},{"$f":"IF(ISBLANK($B$10),\"\",IF(AND($B$10>TODAY(), $B$10>UP$15),EDATE(UP15,1),\"\"))","v":""},{"$f":"IF(ISBLANK($B$10),\"\",IF(AND($B$10>TODAY(), $B$10>UQ$15),EDATE(UQ15,1),\"\"))","v":""},{"$f":"IF(ISBLANK($B$10),\"\",IF(AND($B$10>TODAY(), $B$10>UR$15),EDATE(UR15,1),\"\"))","v":""},{"$f":"IF(ISBLANK($B$10),\"\",IF(AND($B$10>TODAY(), $B$10>US$15),EDATE(US15,1),\"\"))","v":""},{"$f":"IF(ISBLANK($B$10),\"\",IF(AND($B$10>TODAY(), $B$10>UT$15),EDATE(UT15,1),\"\"))","v":""},{"$f":"IF(ISBLANK($B$10),\"\",IF(AND($B$10>TODAY(), $B$10>UU$15),EDATE(UU15,1),\"\"))","v":""},{"$f":"IF(ISBLANK($B$10),\"\",IF(AND($B$10>TODAY(), $B$10>UV$15),EDATE(UV15,1),\"\"))","v":""},{"$f":"IF(ISBLANK($B$10),\"\",IF(AND($B$10>TODAY(), $B$10>UW$15),EDATE(UW15,1),\"\"))","v":""},{"$f":"IF(ISBLANK($B$10),\"\",IF(AND($B$10>TODAY(), $B$10>UX$15),EDATE(UX15,1),\"\"))","v":""},{"$f":"IF(ISBLANK($B$10),\"\",IF(AND($B$10>TODAY(), $B$10>UY$15),EDATE(UY15,1),\"\"))","v":""},{"$f":"IF(ISBLANK($B$10),\"\",IF(AND($B$10>TODAY(), $B$10>UZ$15),EDATE(UZ15,1),\"\"))","v":""},{"$f":"IF(ISBLANK($B$10),\"\",IF(AND($B$10>TODAY(), $B$10>VA$15),EDATE(VA15,1),\"\"))","v":""},{"$f":"IF(ISBLANK($B$10),\"\",IF(AND($B$10>TODAY(), $B$10>VB$15),EDATE(VB15,1),\"\"))","v":""},{"$f":"IF(ISBLANK($B$10),\"\",IF(AND($B$10>TODAY(), $B$10>VC$15),EDATE(VC15,1),\"\"))","v":""},{"$f":"IF(ISBLANK($B$10),\"\",IF(AND($B$10>TODAY(), $B$10>VD$15),EDATE(VD15,1),\"\"))","v":""},{"$f":"IF(ISBLANK($B$10),\"\",IF(AND($B$10>TODAY(), $B$10>VE$15),EDATE(VE15,1),\"\"))","v":""},{"$f":"IF(ISBLANK($B$10),\"\",IF(AND($B$10>TODAY(), $B$10>VF$15),EDATE(VF15,1),\"\"))","v":""},{"$f":"IF(ISBLANK($B$10),\"\",IF(AND($B$10>TODAY(), $B$10>VG$15),EDATE(VG15,1),\"\"))","v":""},{"$f":"IF(ISBLANK($B$10),\"\",IF(AND($B$10>TODAY(), $B$10>VH$15),EDATE(VH15,1),\"\"))","v":""},{"$f":"IF(ISBLANK($B$10),\"\",IF(AND($B$10>TODAY(), $B$10>VI$15),EDATE(VI15,1),\"\"))","v":""},{"$f":"IF(ISBLANK($B$10),\"\",IF(AND($B$10>TODAY(), $B$10>VJ$15),EDATE(VJ15,1),\"\"))","v":""},{"$f":"IF(ISBLANK($B$10),\"\",IF(AND($B$10>TODAY(), $B$10>VK$15),EDATE(VK15,1),\"\"))","v":""},{"$f":"IF(ISBLANK($B$10),\"\",IF(AND($B$10>TODAY(), $B$10>VL$15),EDATE(VL15,1),\"\"))","v":""},{"$f":"IF(ISBLANK($B$10),\"\",IF(AND($B$10>TODAY(), $B$10>VM$15),EDATE(VM15,1),\"\"))","v":""},{"$f":"IF(ISBLANK($B$10),\"\",IF(AND($B$10>TODAY(), $B$10>VN$15),EDATE(VN15,1),\"\"))","v":""},{"$f":"IF(ISBLANK($B$10),\"\",IF(AND($B$10>TODAY(), $B$10>VO$15),EDATE(VO15,1),\"\"))","v":""},{"$f":"IF(ISBLANK($B$10),\"\",IF(AND($B$10>TODAY(), $B$10>VP$15),EDATE(VP15,1),\"\"))","v":""},{"$f":"IF(ISBLANK($B$10),\"\",IF(AND($B$10>TODAY(), $B$10>VQ$15),EDATE(VQ15,1),\"\"))","v":""},{"$f":"IF(ISBLANK($B$10),\"\",IF(AND($B$10>TODAY(), $B$10>VR$15),EDATE(VR15,1),\"\"))","v":""},{"$f":"IF(ISBLANK($B$10),\"\",IF(AND($B$10>TODAY(), $B$10>VS$15),EDATE(VS15,1),\"\"))","v":""},{"$f":"IF(ISBLANK($B$10),\"\",IF(AND($B$10>TODAY(), $B$10>VT$15),EDATE(VT15,1),\"\"))","v":""},{"$f":"IF(ISBLANK($B$10),\"\",IF(AND($B$10>TODAY(), $B$10>VU$15),EDATE(VU15,1),\"\"))","v":""},{"$f":"IF(ISBLANK($B$10),\"\",IF(AND($B$10>TODAY(), $B$10>VV$15),EDATE(VV15,1),\"\"))","v":""},{"$f":"IF(ISBLANK($B$10),\"\",IF(AND($B$10>TODAY(), $B$10>VW$15),EDATE(VW15,1),\"\"))","v":""},{"$f":"IF(ISBLANK($B$10),\"\",IF(AND($B$10>TODAY(), $B$10>VX$15),EDATE(VX15,1),\"\"))","v":""},{"$f":"IF(ISBLANK($B$10),\"\",IF(AND($B$10>TODAY(), $B$10>VY$15),EDATE(VY15,1),\"\"))","v":""},{"$f":"IF(ISBLANK($B$10),\"\",IF(AND($B$10>TODAY(), $B$10>VZ$15),EDATE(VZ15,1),\"\"))","v":""},{"$f":"IF(ISBLANK($B$10),\"\",IF(AND($B$10>TODAY(), $B$10>WA$15),EDATE(WA15,1),\"\"))","v":""},{"$f":"IF(ISBLANK($B$10),\"\",IF(AND($B$10>TODAY(), $B$10>WB$15),EDATE(WB15,1),\"\"))","v":""},{"$f":"IF(ISBLANK($B$10),\"\",IF(AND($B$10>TODAY(), $B$10>WC$15),EDATE(WC15,1),\"\"))","v":""},{"$f":"IF(ISBLANK($B$10),\"\",IF(AND($B$10>TODAY(), $B$10>WD$15),EDATE(WD15,1),\"\"))","v":""},{"$f":"IF(ISBLANK($B$10),\"\",IF(AND($B$10>TODAY(), $B$10>WE$15),EDATE(WE15,1),\"\"))","v":""},{"$f":"IF(ISBLANK($B$10),\"\",IF(AND($B$10>TODAY(), $B$10>WF$15),EDATE(WF15,1),\"\"))","v":""},{"$f":"IF(ISBLANK($B$10),\"\",IF(AND($B$10>TODAY(), $B$10>WG$15),EDATE(WG15,1),\"\"))","v":""},{"$f":"IF(ISBLANK($B$10),\"\",IF(AND($B$10>TODAY(), $B$10>WH$15),EDATE(WH15,1),\"\"))","v":""},{"$f":"IF(ISBLANK($B$10),\"\",IF(AND($B$10>TODAY(), $B$10>WI$15),EDATE(WI15,1),\"\"))","v":""},{"$f":"IF(ISBLANK($B$10),\"\",IF(AND($B$10>TODAY(), $B$10>WJ$15),EDATE(WJ15,1),\"\"))","v":""},{"$f":"IF(ISBLANK($B$10),\"\",IF(AND($B$10>TODAY(), $B$10>WK$15),EDATE(WK15,1),\"\"))","v":""},{"$f":"IF(ISBLANK($B$10),\"\",IF(AND($B$10>TODAY(), $B$10>WL$15),EDATE(WL15,1),\"\"))","v":""},{"$f":"IF(ISBLANK($B$10),\"\",IF(AND($B$10>TODAY(), $B$10>WM$15),EDATE(WM15,1),\"\"))","v":""},{"$f":"IF(ISBLANK($B$10),\"\",IF(AND($B$10>TODAY(), $B$10>WN$15),EDATE(WN15,1),\"\"))","v":""},{"$f":"IF(ISBLANK($B$10),\"\",IF(AND($B$10>TODAY(), $B$10>WO$15),EDATE(WO15,1),\"\"))","v":""},{"$f":"IF(ISBLANK($B$10),\"\",IF(AND($B$10>TODAY(), $B$10>WP$15),EDATE(WP15,1),\"\"))","v":""},{"$f":"IF(ISBLANK($B$10),\"\",IF(AND($B$10>TODAY(), $B$10>WQ$15),EDATE(WQ15,1),\"\"))","v":""},{"$f":"IF(ISBLANK($B$10),\"\",IF(AND($B$10>TODAY(), $B$10>WR$15),EDATE(WR15,1),\"\"))","v":""},{"$f":"IF(ISBLANK($B$10),\"\",IF(AND($B$10>TODAY(), $B$10>WS$15),EDATE(WS15,1),\"\"))","v":""},{"$f":"IF(ISBLANK($B$10),\"\",IF(AND($B$10>TODAY(), $B$10>WT$15),EDATE(WT15,1),\"\"))","v":""},{"$f":"IF(ISBLANK($B$10),\"\",IF(AND($B$10>TODAY(), $B$10>WU$15),EDATE(WU15,1),\"\"))","v":""},{"$f":"IF(ISBLANK($B$10),\"\",IF(AND($B$10>TODAY(), $B$10>WV$15),EDATE(WV15,1),\"\"))","v":""},{"$f":"IF(ISBLANK($B$10),\"\",IF(AND($B$10>TODAY(), $B$10>WW$15),EDATE(WW15,1),\"\"))","v":""},{"$f":"IF(ISBLANK($B$10),\"\",IF(AND($B$10>TODAY(), $B$10>WX$15),EDATE(WX15,1),\"\"))","v":""},{"$f":"IF(ISBLANK($B$10),\"\",IF(AND($B$10>TODAY(), $B$10>WY$15),EDATE(WY15,1),\"\"))","v":""},{"$f":"IF(ISBLANK($B$10),\"\",IF(AND($B$10>TODAY(), $B$10>WZ$15),EDATE(WZ15,1),\"\"))","v":""},{"$f":"IF(ISBLANK($B$10),\"\",IF(AND($B$10>TODAY(), $B$10>XA$15),EDATE(XA15,1),\"\"))","v":""},{"$f":"IF(ISBLANK($B$10),\"\",IF(AND($B$10>TODAY(), $B$10>XB$15),EDATE(XB15,1),\"\"))","v":""},{"$f":"IF(ISBLANK($B$10),\"\",IF(AND($B$10>TODAY(), $B$10>XC$15),EDATE(XC15,1),\"\"))","v":""},{"$f":"IF(ISBLANK($B$10),\"\",IF(AND($B$10>TODAY(), $B$10>XD$15),EDATE(XD15,1),\"\"))","v":""},{"$f":"IF(ISBLANK($B$10),\"\",IF(AND($B$10>TODAY(), $B$10>XE$15),EDATE(XE15,1),\"\"))","v":""},{"$f":"IF(ISBLANK($B$10),\"\",IF(AND($B$10>TODAY(), $B$10>XF$15),EDATE(XF15,1),\"\"))","v":""},{"$f":"IF(ISBLANK($B$10),\"\",IF(AND($B$10>TODAY(), $B$10>XG$15),EDATE(XG15,1),\"\"))","v":""},{"$f":"IF(ISBLANK($B$10),\"\",IF(AND($B$10>TODAY(), $B$10>XH$15),EDATE(XH15,1),\"\"))","v":""},{"$f":"IF(ISBLANK($B$10),\"\",IF(AND($B$10>TODAY(), $B$10>XI$15),EDATE(XI15,1),\"\"))","v":""},{"$f":"IF(ISBLANK($B$10),\"\",IF(AND($B$10>TODAY(), $B$10>XJ$15),EDATE(XJ15,1),\"\"))","v":""},{"$f":"IF(ISBLANK($B$10),\"\",IF(AND($B$10>TODAY(), $B$10>XK$15),EDATE(XK15,1),\"\"))","v":""},{"$f":"IF(ISBLANK($B$10),\"\",IF(AND($B$10>TODAY(), $B$10>XL$15),EDATE(XL15,1),\"\"))","v":""},{"$f":"IF(ISBLANK($B$10),\"\",IF(AND($B$10>TODAY(), $B$10>XM$15),EDATE(XM15,1),\"\"))","v":""},{"$f":"IF(ISBLANK($B$10),\"\",IF(AND($B$10>TODAY(), $B$10>XN$15),EDATE(XN15,1),\"\"))","v":""},{"$f":"IF(ISBLANK($B$10),\"\",IF(AND($B$10>TODAY(), $B$10>XO$15),EDATE(XO15,1),\"\"))","v":""},{"$f":"IF(ISBLANK($B$10),\"\",IF(AND($B$10>TODAY(), $B$10>XP$15),EDATE(XP15,1),\"\"))","v":""},{"$f":"IF(ISBLANK($B$10),\"\",IF(AND($B$10>TODAY(), $B$10>XQ$15),EDATE(XQ15,1),\"\"))","v":""},{"$f":"IF(ISBLANK($B$10),\"\",IF(AND($B$10>TODAY(), $B$10>XR$15),EDATE(XR15,1),\"\"))","v":""},{"$f":"IF(ISBLANK($B$10),\"\",IF(AND($B$10>TODAY(), $B$10>XS$15),EDATE(XS15,1),\"\"))","v":""},{"$f":"IF(ISBLANK($B$10),\"\",IF(AND($B$10>TODAY(), $B$10>XT$15),EDATE(XT15,1),\"\"))","v":""},{"$f":"IF(ISBLANK($B$10),\"\",IF(AND($B$10>TODAY(), $B$10>XU$15),EDATE(XU15,1),\"\"))","v":""},{"$f":"IF(ISBLANK($B$10),\"\",IF(AND($B$10>TODAY(), $B$10>XV$15),EDATE(XV15,1),\"\"))","v":""},{"$f":"IF(ISBLANK($B$10),\"\",IF(AND($B$10>TODAY(), $B$10>XW$15),EDATE(XW15,1),\"\"))","v":""},{"$f":"IF(ISBLANK($B$10),\"\",IF(AND($B$10>TODAY(), $B$10>XX$15),EDATE(XX15,1),\"\"))","v":""},{"$f":"IF(ISBLANK($B$10),\"\",IF(AND($B$10>TODAY(), $B$10>XY$15),EDATE(XY15,1),\"\"))","v":""},{"$f":"IF(ISBLANK($B$10),\"\",IF(AND($B$10>TODAY(), $B$10>XZ$15),EDATE(XZ15,1),\"\"))","v":""},{"$f":"IF(ISBLANK($B$10),\"\",IF(AND($B$10>TODAY(), $B$10>YA$15),EDATE(YA15,1),\"\"))","v":""},{"$f":"IF(ISBLANK($B$10),\"\",IF(AND($B$10>TODAY(), $B$10>YB$15),EDATE(YB15,1),\"\"))","v":""},{"$f":"IF(ISBLANK($B$10),\"\",IF(AND($B$10>TODAY(), $B$10>YC$15),EDATE(YC15,1),\"\"))","v":""},{"$f":"IF(ISBLANK($B$10),\"\",IF(AND($B$10>TODAY(), $B$10>YD$15),EDATE(YD15,1),\"\"))","v":""},{"$f":"IF(ISBLANK($B$10),\"\",IF(AND($B$10>TODAY(), $B$10>YE$15),EDATE(YE15,1),\"\"))","v":""},{"$f":"IF(ISBLANK($B$10),\"\",IF(AND($B$10>TODAY(), $B$10>YF$15),EDATE(YF15,1),\"\"))","v":""},{"$f":"IF(ISBLANK($B$10),\"\",IF(AND($B$10>TODAY(), $B$10>YG$15),EDATE(YG15,1),\"\"))","v":""},{"$f":"IF(ISBLANK($B$10),\"\",IF(AND($B$10>TODAY(), $B$10>YH$15),EDATE(YH15,1),\"\"))","v":""},{"$f":"IF(ISBLANK($B$10),\"\",IF(AND($B$10>TODAY(), $B$10>YI$15),EDATE(YI15,1),\"\"))","v":""},{"$f":"IF(ISBLANK($B$10),\"\",IF(AND($B$10>TODAY(), $B$10>YJ$15),EDATE(YJ15,1),\"\"))","v":""},{"$f":"IF(ISBLANK($B$10),\"\",IF(AND($B$10>TODAY(), $B$10>YK$15),EDATE(YK15,1),\"\"))","v":""},{"$f":"IF(ISBLANK($B$10),\"\",IF(AND($B$10>TODAY(), $B$10>YL$15),EDATE(YL15,1),\"\"))","v":""},{"$f":"IF(ISBLANK($B$10),\"\",IF(AND($B$10>TODAY(), $B$10>YM$15),EDATE(YM15,1),\"\"))","v":""},{"$f":"IF(ISBLANK($B$10),\"\",IF(AND($B$10>TODAY(), $B$10>YN$15),EDATE(YN15,1),\"\"))","v":""},{"$f":"IF(ISBLANK($B$10),\"\",IF(AND($B$10>TODAY(), $B$10>YO$15),EDATE(YO15,1),\"\"))","v":""},{"$f":"IF(ISBLANK($B$10),\"\",IF(AND($B$10>TODAY(), $B$10>YP$15),EDATE(YP15,1),\"\"))","v":""},{"$f":"IF(ISBLANK($B$10),\"\",IF(AND($B$10>TODAY(), $B$10>YQ$15),EDATE(YQ15,1),\"\"))","v":""},{"$f":"IF(ISBLANK($B$10),\"\",IF(AND($B$10>TODAY(), $B$10>YR$15),EDATE(YR15,1),\"\"))","v":""},{"$f":"IF(ISBLANK($B$10),\"\",IF(AND($B$10>TODAY(), $B$10>YS$15),EDATE(YS15,1),\"\"))","v":""},{"$f":"IF(ISBLANK($B$10),\"\",IF(AND($B$10>TODAY(), $B$10>YT$15),EDATE(YT15,1),\"\"))","v":""},{"$f":"IF(ISBLANK($B$10),\"\",IF(AND($B$10>TODAY(), $B$10>YU$15),EDATE(YU15,1),\"\"))","v":""},{"$f":"IF(ISBLANK($B$10),\"\",IF(AND($B$10>TODAY(), $B$10>YV$15),EDATE(YV15,1),\"\"))","v":""},{"$f":"IF(ISBLANK($B$10),\"\",IF(AND($B$10>TODAY(), $B$10>YW$15),EDATE(YW15,1),\"\"))","v":""},{"$f":"IF(ISBLANK($B$10),\"\",IF(AND($B$10>TODAY(), $B$10>YX$15),EDATE(YX15,1),\"\"))","v":""},{"$f":"IF(ISBLANK($B$10),\"\",IF(AND($B$10>TODAY(), $B$10>YY$15),EDATE(YY15,1),\"\"))","v":""},{"$f":"IF(ISBLANK($B$10),\"\",IF(AND($B$10>TODAY(), $B$10>YZ$15),EDATE(YZ15,1),\"\"))","v":""},{"$f":"IF(ISBLANK($B$10),\"\",IF(AND($B$10>TODAY(), $B$10>ZA$15),EDATE(ZA15,1),\"\"))","v":""},{"$f":"IF(ISBLANK($B$10),\"\",IF(AND($B$10>TODAY(), $B$10>ZB$15),EDATE(ZB15,1),\"\"))","v":""},{"$f":"IF(ISBLANK($B$10),\"\",IF(AND($B$10>TODAY(), $B$10>ZC$15),EDATE(ZC15,1),\"\"))","v":""},{"$f":"IF(ISBLANK($B$10),\"\",IF(AND($B$10>TODAY(), $B$10>ZD$15),EDATE(ZD15,1),\"\"))","v":""},{"$f":"IF(ISBLANK($B$10),\"\",IF(AND($B$10>TODAY(), $B$10>ZE$15),EDATE(ZE15,1),\"\"))","v":""},{"$f":"IF(ISBLANK($B$10),\"\",IF(AND($B$10>TODAY(), $B$10>ZF$15),EDATE(ZF15,1),\"\"))","v":""},{"$f":"IF(ISBLANK($B$10),\"\",IF(AND($B$10>TODAY(), $B$10>ZG$15),EDATE(ZG15,1),\"\"))","v":""},{"$f":"IF(ISBLANK($B$10),\"\",IF(AND($B$10>TODAY(), $B$10>ZH$15),EDATE(ZH15,1),\"\"))","v":""},{"$f":"IF(ISBLANK($B$10),\"\",IF(AND($B$10>TODAY(), $B$10>ZI$15),EDATE(ZI15,1),\"\"))","v":""},{"$f":"IF(ISBLANK($B$10),\"\",IF(AND($B$10>TODAY(), $B$10>ZJ$15),EDATE(ZJ15,1),\"\"))","v":""},{"$f":"IF(ISBLANK($B$10),\"\",IF(AND($B$10>TODAY(), $B$10>ZK$15),EDATE(ZK15,1),\"\"))","v":""},{"$f":"IF(ISBLANK($B$10),\"\",IF(AND($B$10>TODAY(), $B$10>ZL$15),EDATE(ZL15,1),\"\"))","v":""},{"$f":"IF(ISBLANK($B$10),\"\",IF(AND($B$10>TODAY(), $B$10>ZM$15),EDATE(ZM15,1),\"\"))","v":""},{"$f":"IF(ISBLANK($B$10),\"\",IF(AND($B$10>TODAY(), $B$10>ZN$15),EDATE(ZN15,1),\"\"))","v":""},{"$f":"IF(ISBLANK($B$10),\"\",IF(AND($B$10>TODAY(), $B$10>ZO$15),EDATE(ZO15,1),\"\"))","v":""},{"$f":"IF(ISBLANK($B$10),\"\",IF(AND($B$10>TODAY(), $B$10>ZP$15),EDATE(ZP15,1),\"\"))","v":""},{"$f":"IF(ISBLANK($B$10),\"\",IF(AND($B$10>TODAY(), $B$10>ZQ$15),EDATE(ZQ15,1),\"\"))","v":""},{"$f":"IF(ISBLANK($B$10),\"\",IF(AND($B$10>TODAY(), $B$10>ZR$15),EDATE(ZR15,1),\"\"))","v":""},{"$f":"IF(ISBLANK($B$10),\"\",IF(AND($B$10>TODAY(), $B$10>ZS$15),EDATE(ZS15,1),\"\"))","v":""},{"$f":"IF(ISBLANK($B$10),\"\",IF(AND($B$10>TODAY(), $B$10>ZT$15),EDATE(ZT15,1),\"\"))","v":""},{"$f":"IF(ISBLANK($B$10),\"\",IF(AND($B$10>TODAY(), $B$10>ZU$15),EDATE(ZU15,1),\"\"))","v":""},{"$f":"IF(ISBLANK($B$10),\"\",IF(AND($B$10>TODAY(), $B$10>ZV$15),EDATE(ZV15,1),\"\"))","v":""},{"$f":"IF(ISBLANK($B$10),\"\",IF(AND($B$10>TODAY(), $B$10>ZW$15),EDATE(ZW15,1),\"\"))","v":""},{"$f":"IF(ISBLANK($B$10),\"\",IF(AND($B$10>TODAY(), $B$10>ZX$15),EDATE(ZX15,1),\"\"))","v":""},{"$f":"IF(ISBLANK($B$10),\"\",IF(AND($B$10>TODAY(), $B$10>ZY$15),EDATE(ZY15,1),\"\"))","v":""}]
["Prescreened"]
["Screened"]
["Consented"]
["Randomised and entered"]
[]
["Plan for achieving FPFV:",null,"Factors that may impact on initiation/delivery\n( choose from dropdown list)",null,"IfOther, please describe below"]
[null,null,""]
[null,null,""]
[null,null,""]
[null,null,""]
[null,"ACTIVITY \nClick on cells below and chose from dropdown list","WHO\n(NAME ALL PERSONNEL)","HOW \n(DESCRIBE giving as much detail as possible)","FREQUENCY \nTIMESCALE \n(HOW OFTEN) Chose from dropdown list within cell","PLAN \ne.g. APR 15\nSTART","PLAN\nDURATION \n(MONTHS)","ACTUAL \nSTART \ne.g. APR 15","ACTUAL \nDURATION \n(MONTHS)"]
["Recruitment from clinical settings"]
["cxz"]
[]
[]
[]
[]
[]
["Recruitment from other settings"]
[]
[]
[]
["Database and clinical system searches"]
[]
[]
[]
["Advertising*"]
[]
[]
[]
[]
[]
["Other Strategies Suggested by site"]
[]
[]
["dsadsa"]
[]
[]
["Free text for other stategies"]
[]
[]
["*depends on what has been ethically approved"]
[]
["© CRN South West, SWAHSN, 2015. All rights reserved."]
["Adapted by NAW. RDEFT.2017 for Trust use"]

{"sheet":"Printout Summary","index":1,"n_rows":24,"n_cols":5,"rows_kept":24,"cut":false,"hidden":false,"merged":[[20,0,23,1],[10,3,11,3],[6,3,8,3],[19,0,19,1],[19,2,19,3],[20,4,23,4],[20,2,20,3],[21,2,21,3],[22,2,22,3],[23,2,23,3]]}
["Study Summary"]
["Study Title",{"$f":"'Recruitment Planner Data Entry'!B2 & \" / \" & 'Recruitment Planner Data Entry'!D3 & \" / \" & 'Recruitment Planner Data Entry'!B3","v":" /  / "}]
["Principal Investigator:",{"$f":"'Recruitment Planner Data Entry'!B4","v":0}]
["Research Practitioner:",{"$f":"'Recruitment Planner Data Entry'!B5","v":0}]
["Site recruitment target number / date target set:",{"$f":"'Recruitment Planner Data Entry'!B6&\" / \" &  IF('Recruitment Planner Data Entry'!D6=\"\",\"\",TEXT('Recruitment Planner Data Entry'!D6,\"dd mmm yyyy\"))","v":" / "}]
["Confirmation of Cap&Cap",{"$f":" IF('Recruitment Planner Data Entry'!B9=\"\",\"\",TEXT('Recruitment Planner Data Entry'!B9,\"dd mmm yyyy\"))","v":""}]
["Green light from sponsor",{"$f":" IF('Recruitment Planner Data Entry'!B8=\"\",\"\",TEXT('Recruitment Planner Data Entry'!B8,\"dd mmm yyyy\"))","v":""},"Reason for delay",{"$f":"IF('Recruitment Planner Data Entry'!D8=\"\",\"\",'Recruitment Planner Data Entry'!D8)","v":""}]
["Expected AND Actual site first patient first visit date:",{"$f":" IF('Recruitment Planner Data Entry'!B7=\"\",\"\",TEXT('Recruitment Planner Data Entry'!B7,\"dd mmm yyyy\")) & \" / \" & IF('Recruitment Planner Data Entry'!D9=\"\", \"\",TEXT('Recruitment Planner Data Entry'!D9,\"dd mmm yyyy\"))","v":" / "}]
["Planned AND Actual recruitment end date",{"$f":" IF('Recruitment Planner Data Entry'!B10=\"\",\"\",TEXT('Recruitment Planner Data Entry'!B10,\"dd mmm yyyy\")) & \" / \" & IF('Recruitment Planner Data Entry'!D10=\"\", \"\",TEXT('Recruitment Planner Data Entry'!D10,\"dd mmm yyyy\"))","v":" / "}]
["Study End date:",{"$f":" IF('Recruitment Planner Data Entry'!B11=\"\",\"\",'Recruitment Planner Data Entry'!B11)","v":""}]
["Expected number of patients to screen",{"$f":"IF('Recruitment Planner Data Entry'!B12=\"\",\"\",'Recruitment Planner Data Entry'!B12)","v":""},"Where will participants be seen?",{"$f":"IF('Recruitment Planner Data Entry'!D12=\"\",\"\",'Recruitment Planner Data Entry'!D12) & \" \" &IF('Recruitment Planner Data Entry'!D13=\"\",\"\",'Recruitment Planner Data Entry'!D13)","v":" "}]
["Expected number of eligible patients:",{"$f":"IF('Recruitment Planner Data Entry'!B13=\"\",\"\",'Recruitment Planner Data Entry'!B13)","v":""}]
[]
["Patient Numbers","To date"]
["Prescreened",{"$f":"'Recruitment Planner Data Entry'!B16","v":0}]
["Screened",{"$f":"'Recruitment Planner Data Entry'!B17","v":0}]
["Consented",{"$f":"'Recruitment Planner Data Entry'!B18","v":0}]
["Randomised and entered",{"$f":"'Recruitment Planner Data Entry'!B19","v":0}]
[]
[{"$f":"'Recruitment Planner Data Entry'!A21","v":"Plan for achieving FPFV:"},null,{"$f":"'Recruitment Planner Data Entry'!C21","v":"Factors that may impact on initiation/delivery\n( choose from dropdown list)"},null,{"$f":"'Recruitment Planner Data Entry'!E21","v":"IfOther, please describe below"}]
[{"$f":"'Recruitment Planner Data Entry'!A22","v":0},null,{"$f":"'Recruitment Planner Data Entry'!C22","v":""},null,{"$f":"'Recruitment Planner Data Entry'!E22","v":0}]
[null,null,{"$f":"'Recruitment Planner Data Entry'!C23","v":""}]
[null,null,{"$f":"'Recruitment Planner Data Entry'!C24","v":""}]
[null,null,{"$f":"'Recruitment Planner Data Entry'!C25","v":""}]

{"sheet":"Source_list","index":2,"n_rows":13,"n_cols":17,"rows_kept":13,"cut":false,"hidden":false,"merged":[]}
["Review of new patients in clinics (inc MDTs)",null,"Review of patients on other wards",null,"Review of patient databases",null,"Posters",null,"Aide memoirs for staff/trial schematic/inclusion-exclusion criteria",null,"Daily",null,"Please enter into this row first",null,"Wards",null,"Principal Investigator date and signature:"]
["Review of existing patients in clinics (inc MDTs)",null,"Referrals from specialists within field",null,"Review of patient notes",null,"Leaflets",null,"Training sessions (e.g. with community staff/wards/clinical practitioners/specialist nurses/MDTs/research & other clinical meetings)",null,"Weekly",null,"Rare disease",null,"Outpatients (medical)",null,"Research Practitioner date and signature:"]
["Review of patients attending general clinics",null,"Referrals from other sub-specialty",null,"Review of coding data",null,"Public research adverts (e.g. Electronic Screens in patient waiting areas/\"trial of the month\")",null,"Review of measurements/diagnoses within last 3-6 months",null,"Fortnightly",null,"Staffing issues within team",null,"Outpatients (surgical)",null,"Review date:"]
["Review of patients with condition (e.g. audit of diagnosis within 6/12m)",null,"Referrals from hospital staff",null,null,null,"Staff areas (e.g. intranet sites, screensavers, staff rooms and facilities)",null,"Review of emergency hospitalisations",null,"Monthly",null,"Service department capacity",null,"HeSRU",null,"Record of changes:"]
["Out of hours ad hoc recruitment",null,"Referrals from community practitioners",null,null,null,"Social Media ( Facebook, Twitter, LinkedIn etc)",null,"Review of device implant list",null,"Bimonthly",null,"Competing studies",null,"RILD"]
[null,null,"Referrals from rehabilitation staff",null,null,null,"Adverts through Patient Groups and/or charities",null,null,null,"Ad Hoc",null,"Complex eligibility criteria",null,"Child Health Building"]
[null,null,"Referrals from General Practice (e.g. from mailshot)",null,null,null,"Newspaper and or Radio Adverts",null,null,null,"Once ",null,"Provision of study equipment",null,"Wynard"]
[null,null,"Referrals from GP of special interest",null,null,null,null,null,null,null,"Other",null,"Study equipment storage/access issues",null,"Other:"]
[null,null,"Referrals from community services",null,null,null,null,null,null,null,null,null,"Other: please describe"]
[null,null,"Referrals from other Trusts"]
[]
[]
[null,null,null,null,null,null,null,null,null,null,null,null,null,null,"Use this row first"]